BEGIN:VCALENDAR
VERSION:2.0
PRODID:-//espace enfant grand ried - ECPv6.15.20//NONSGML v1.0//EN
CALSCALE:GREGORIAN
METHOD:PUBLISH
X-WR-CALNAME:espace enfant grand ried
X-ORIGINAL-URL:https://espace-enfants-grand-ried.eu
X-WR-CALDESC:Évènements pour espace enfant grand ried
REFRESH-INTERVAL;VALUE=DURATION:PT1H
X-Robots-Tag:noindex
X-PUBLISHED-TTL:PT1H
BEGIN:VTIMEZONE
TZID:Europe/Paris
BEGIN:DAYLIGHT
TZOFFSETFROM:+0100
TZOFFSETTO:+0200
TZNAME:CEST
DTSTART:20240331T010000
END:DAYLIGHT
BEGIN:STANDARD
TZOFFSETFROM:+0200
TZOFFSETTO:+0100
TZNAME:CET
DTSTART:20241027T010000
END:STANDARD
BEGIN:DAYLIGHT
TZOFFSETFROM:+0100
TZOFFSETTO:+0200
TZNAME:CEST
DTSTART:20250330T010000
END:DAYLIGHT
BEGIN:STANDARD
TZOFFSETFROM:+0200
TZOFFSETTO:+0100
TZNAME:CET
DTSTART:20251026T010000
END:STANDARD
BEGIN:DAYLIGHT
TZOFFSETFROM:+0100
TZOFFSETTO:+0200
TZNAME:CEST
DTSTART:20260329T010000
END:DAYLIGHT
BEGIN:STANDARD
TZOFFSETFROM:+0200
TZOFFSETTO:+0100
TZNAME:CET
DTSTART:20261025T010000
END:STANDARD
END:VTIMEZONE
BEGIN:VEVENT
DTSTART;TZID=Europe/Paris:20251107T140000
DTEND;TZID=Europe/Paris:20251107T140000
DTSTAMP:20260425T160042
CREATED:20251020T145515Z
LAST-MODIFIED:20251020T145530Z
UID:631-1762524000-1762524000@espace-enfants-grand-ried.eu
SUMMARY:Chant prénatal future maman
DESCRIPTION:Doux et apaisant\, le chant prénatal est une excellente méthode de préparation à l’accouchement. Il décontracte les futurs parents et rassure le nourrisson. (2 personnes max.) \nIntervenante : Chantal Schaeffert – Rebert
URL:https://espace-enfants-grand-ried.eu/event/chant-prenatal-future-maman/
LOCATION:Chantal Schaeffer- Rebert\, 8 rue des Vergers\, Hilsenheim\, France
CATEGORIES:Bout'chou · 0 à 3ans
ATTACH;FMTTYPE=image/jpeg:https://espace-enfants-grand-ried.eu/wp-content/uploads/2025/10/135587210_1761711547324070_572369067633342688_n-e1631116408677.jpg
END:VEVENT
END:VCALENDAR