BEGIN:VCALENDAR
VERSION:2.0
PRODID:-//espace enfant grand ried - ECPv6.15.20//NONSGML v1.0//EN
CALSCALE:GREGORIAN
METHOD:PUBLISH
X-ORIGINAL-URL:https://espace-enfants-grand-ried.eu
X-WR-CALDESC:Évènements pour espace enfant grand ried
REFRESH-INTERVAL;VALUE=DURATION:PT1H
X-Robots-Tag:noindex
X-PUBLISHED-TTL:PT1H
BEGIN:VTIMEZONE
TZID:Europe/Paris
BEGIN:DAYLIGHT
TZOFFSETFROM:+0100
TZOFFSETTO:+0200
TZNAME:CEST
DTSTART:20240331T010000
END:DAYLIGHT
BEGIN:STANDARD
TZOFFSETFROM:+0200
TZOFFSETTO:+0100
TZNAME:CET
DTSTART:20241027T010000
END:STANDARD
BEGIN:DAYLIGHT
TZOFFSETFROM:+0100
TZOFFSETTO:+0200
TZNAME:CEST
DTSTART:20250330T010000
END:DAYLIGHT
BEGIN:STANDARD
TZOFFSETFROM:+0200
TZOFFSETTO:+0100
TZNAME:CET
DTSTART:20251026T010000
END:STANDARD
BEGIN:DAYLIGHT
TZOFFSETFROM:+0100
TZOFFSETTO:+0200
TZNAME:CEST
DTSTART:20260329T010000
END:DAYLIGHT
BEGIN:STANDARD
TZOFFSETFROM:+0200
TZOFFSETTO:+0100
TZNAME:CET
DTSTART:20261025T010000
END:STANDARD
END:VTIMEZONE
BEGIN:VEVENT
DTSTART;TZID=Europe/Paris:20251122T140000
DTEND;TZID=Europe/Paris:20251122T160000
DTSTAMP:20260423T225431
CREATED:20251020T145241Z
LAST-MODIFIED:20251112T155343Z
UID:627-1763820000-1763827200@espace-enfants-grand-ried.eu
SUMMARY:On est pas là pour faire le Cirque !
DESCRIPTION:Découverte de la jonglerie et de l’équilibre ou de l’art du clown\nIntervenant : atelier-ptit-clown.fr \nTarif de l’atelier : 7€ – facturation mensuelle\n(8.40€ villages hors CC du Ried de Marckolsheim) \nCarte de membre obligatoire
URL:https://espace-enfants-grand-ried.eu/event/on-est-pas-la-pour-faire-le-cirque/
LOCATION:Salle communale Heidolsheim
CATEGORIES:En famille dès 3 ans
ATTACH;FMTTYPE=image/jpeg:https://espace-enfants-grand-ried.eu/wp-content/uploads/2025/10/senones-emma-047.jpg
END:VEVENT
BEGIN:VEVENT
DTSTART;TZID=Europe/Paris:20251126T140000
DTEND;TZID=Europe/Paris:20251126T170000
DTSTAMP:20260423T225431
CREATED:20251020T152407Z
LAST-MODIFIED:20251020T152407Z
UID:668-1764165600-1764176400@espace-enfants-grand-ried.eu
SUMMARY:Montessori 3 à 6 ans
DESCRIPTION:Virginie vous propose de découvrir Montessori avec son matériel dans son éducathèque (1 adulte / 1 enfant (maternelle)). \nIntervenante : Virginie Bertrand \n\n\nTarif de l’atelier : 5€ – facturation mensuelle \n(6€ villages hors CC du Ried de Marckolsheim) \nCarte de membre obligatoire
URL:https://espace-enfants-grand-ried.eu/event/montessori-3-a-6-ans/
LOCATION:Educathèque des racines et des ailes\, 9 Rue des Tulipes\,\, Muttersholtz\, 67600
CATEGORIES:En famille dès 3 ans
ATTACH;FMTTYPE=image/jpeg:https://espace-enfants-grand-ried.eu/wp-content/uploads/2025/10/103311556_586920722236522_143432105918296935_o-e1600258937629.jpg
END:VEVENT
END:VCALENDAR