BEGIN:VCALENDAR
VERSION:2.0
PRODID:-//espace enfant grand ried - ECPv6.15.20//NONSGML v1.0//EN
CALSCALE:GREGORIAN
METHOD:PUBLISH
X-WR-CALNAME:espace enfant grand ried
X-ORIGINAL-URL:https://espace-enfants-grand-ried.eu
X-WR-CALDESC:Évènements pour espace enfant grand ried
REFRESH-INTERVAL;VALUE=DURATION:PT1H
X-Robots-Tag:noindex
X-PUBLISHED-TTL:PT1H
BEGIN:VTIMEZONE
TZID:Europe/Paris
BEGIN:DAYLIGHT
TZOFFSETFROM:+0100
TZOFFSETTO:+0200
TZNAME:CEST
DTSTART:20250330T010000
END:DAYLIGHT
BEGIN:STANDARD
TZOFFSETFROM:+0200
TZOFFSETTO:+0100
TZNAME:CET
DTSTART:20251026T010000
END:STANDARD
BEGIN:DAYLIGHT
TZOFFSETFROM:+0100
TZOFFSETTO:+0200
TZNAME:CEST
DTSTART:20260329T010000
END:DAYLIGHT
BEGIN:STANDARD
TZOFFSETFROM:+0200
TZOFFSETTO:+0100
TZNAME:CET
DTSTART:20261025T010000
END:STANDARD
BEGIN:DAYLIGHT
TZOFFSETFROM:+0100
TZOFFSETTO:+0200
TZNAME:CEST
DTSTART:20270328T010000
END:DAYLIGHT
BEGIN:STANDARD
TZOFFSETFROM:+0200
TZOFFSETTO:+0100
TZNAME:CET
DTSTART:20271031T010000
END:STANDARD
END:VTIMEZONE
BEGIN:VEVENT
DTSTART;TZID=Europe/Paris:20260512T193000
DTEND;TZID=Europe/Paris:20260512T210000
DTSTAMP:20260423T173741
CREATED:20260410T130859Z
LAST-MODIFIED:20260410T173536Z
UID:3619-1778614200-1778619600@espace-enfants-grand-ried.eu
SUMMARY:Kfé Parents "Mon Premier Smartphone : un cap important pour les enfants… et les parents !"
DESCRIPTION:Entre liberté\, sécurité et responsabilité…venez échanger pour éviter les pièges\, construire un usage équilibré pour poser un cadre serein. \nAdo et pré-ado bienvenue \n\n\nIntervenante : Claire Schmitt-Moeglin\, psychologue clinicienne du développement spécialité enfance\nSoirée en présentiel – Possible en visio (pour obtenir le lien envoyez un mail)\nGratuit – Sans Inscription
URL:https://espace-enfants-grand-ried.eu/event/kf-parents-mpremier-smartphone-un-cap-important-pour-les-enfants-et-les-parents-copy/
LOCATION:mairie Artolsheim\, 11 rue principale\, artolsheim\, 67390\, France
CATEGORIES:évènements,parentalité
ATTACH;FMTTYPE=image/jpeg:https://espace-enfants-grand-ried.eu/wp-content/uploads/2026/05/low-angle-view-big-group-smiling-multiracial-teenagers-addicted-smart-phones-watching-1.jpeg
END:VEVENT
BEGIN:VEVENT
DTSTART;TZID=Europe/Paris:20260526T183000
DTEND;TZID=Europe/Paris:20260526T193000
DTSTAMP:20260423T173741
CREATED:20260326T104151Z
LAST-MODIFIED:20260326T104634Z
UID:3423-1779820200-1779823800@espace-enfants-grand-ried.eu
SUMMARY:Chansons jeune public
DESCRIPTION:Des chansons un peu folles qui se glissent dans l’oreille\, à fredonner avec vos enfants. Ce spectacle invite à changer et à apprivoiser la différence avec tendresse et fantaisie \nDurée 45 minutes \nDès 5 ans (accompagnateur adulte indispensable) \ninscription obligatoire sur Hello Asso : https://www.helloasso.com/associations/espace-enfants-grand-ried/evenements/chanson-jeune-public-sortie-en-famille?
URL:https://espace-enfants-grand-ried.eu/event/chansons-jeune-public-exemplaire/
LOCATION:Les Tanzmatten\, Espace culturel et festif\, quai de l'ill\, selestat\, 67600\, France
CATEGORIES:évènements
ATTACH;FMTTYPE=image/jpeg:https://espace-enfants-grand-ried.eu/wp-content/uploads/2026/03/csm_monstres-a-tue-tete_478ebf4c7b.jpg
END:VEVENT
END:VCALENDAR