BEGIN:VCALENDAR
VERSION:2.0
PRODID:-//espace enfant grand ried - ECPv6.15.20//NONSGML v1.0//EN
CALSCALE:GREGORIAN
METHOD:PUBLISH
X-WR-CALNAME:espace enfant grand ried
X-ORIGINAL-URL:https://espace-enfants-grand-ried.eu
X-WR-CALDESC:Évènements pour espace enfant grand ried
REFRESH-INTERVAL;VALUE=DURATION:PT1H
X-Robots-Tag:noindex
X-PUBLISHED-TTL:PT1H
BEGIN:VTIMEZONE
TZID:Europe/Paris
BEGIN:DAYLIGHT
TZOFFSETFROM:+0100
TZOFFSETTO:+0200
TZNAME:CEST
DTSTART:20250330T010000
END:DAYLIGHT
BEGIN:STANDARD
TZOFFSETFROM:+0200
TZOFFSETTO:+0100
TZNAME:CET
DTSTART:20251026T010000
END:STANDARD
BEGIN:DAYLIGHT
TZOFFSETFROM:+0100
TZOFFSETTO:+0200
TZNAME:CEST
DTSTART:20260329T010000
END:DAYLIGHT
BEGIN:STANDARD
TZOFFSETFROM:+0200
TZOFFSETTO:+0100
TZNAME:CET
DTSTART:20261025T010000
END:STANDARD
BEGIN:DAYLIGHT
TZOFFSETFROM:+0100
TZOFFSETTO:+0200
TZNAME:CEST
DTSTART:20270328T010000
END:DAYLIGHT
BEGIN:STANDARD
TZOFFSETFROM:+0200
TZOFFSETTO:+0100
TZNAME:CET
DTSTART:20271031T010000
END:STANDARD
END:VTIMEZONE
BEGIN:VEVENT
DTSTART;TZID=Europe/Paris:20260212T083000
DTEND;TZID=Europe/Paris:20260212T120000
DTSTAMP:20260425T144754
CREATED:20260106T174321Z
LAST-MODIFIED:20260106T174355Z
UID:1676-1770885000-1770897600@espace-enfants-grand-ried.eu
SUMMARY:Permanence d'écoute aux familles
DESCRIPTION:Besoin de parler\, de poser une question sur le comportement de votre enfant\, la vie de famille ou une situation qui vous préoccupe ?\nClaire Schmitt Moeglin psychologue vous accueille en toute confidentialité\, pour un temps d’échange et d’écoute.\nUn espace pour souffler\, comprendre\, trouver des repères. \nPour toutes les familles (membres ou non)\, les permanences d’écoute gratuites se font une fois par mois sur rendez-vous à 8h30 ou 11h \nLa psychologue est également présente au royaume des Galopins à la même date de 9h30 à 11h. \nPour prendre rendez-vous\, contactez notre secrétariat.
URL:https://espace-enfants-grand-ried.eu/event/permanence-dcoute-aux-familles-1202/
LOCATION:RAI\, 25 rue des artisans\, Sundhouse\, 67920
CATEGORIES:parentalité
ATTACH;FMTTYPE=image/png:https://espace-enfants-grand-ried.eu/wp-content/uploads/2026/01/Copie-de-Bientot-de-retour-1140-x-350-px-1.png
END:VEVENT
END:VCALENDAR