BEGIN:VCALENDAR
VERSION:2.0
PRODID:-//espace enfant grand ried - ECPv6.15.20//NONSGML v1.0//EN
CALSCALE:GREGORIAN
METHOD:PUBLISH
X-WR-CALNAME:espace enfant grand ried
X-ORIGINAL-URL:https://espace-enfants-grand-ried.eu
X-WR-CALDESC:Évènements pour espace enfant grand ried
REFRESH-INTERVAL;VALUE=DURATION:PT1H
X-Robots-Tag:noindex
X-PUBLISHED-TTL:PT1H
BEGIN:VTIMEZONE
TZID:Europe/Paris
BEGIN:DAYLIGHT
TZOFFSETFROM:+0100
TZOFFSETTO:+0200
TZNAME:CEST
DTSTART:20250330T010000
END:DAYLIGHT
BEGIN:STANDARD
TZOFFSETFROM:+0200
TZOFFSETTO:+0100
TZNAME:CET
DTSTART:20251026T010000
END:STANDARD
BEGIN:DAYLIGHT
TZOFFSETFROM:+0100
TZOFFSETTO:+0200
TZNAME:CEST
DTSTART:20260329T010000
END:DAYLIGHT
BEGIN:STANDARD
TZOFFSETFROM:+0200
TZOFFSETTO:+0100
TZNAME:CET
DTSTART:20261025T010000
END:STANDARD
BEGIN:DAYLIGHT
TZOFFSETFROM:+0100
TZOFFSETTO:+0200
TZNAME:CEST
DTSTART:20270328T010000
END:DAYLIGHT
BEGIN:STANDARD
TZOFFSETFROM:+0200
TZOFFSETTO:+0100
TZNAME:CET
DTSTART:20271031T010000
END:STANDARD
END:VTIMEZONE
BEGIN:VEVENT
DTSTART;TZID=Europe/Paris:20260312T083000
DTEND;TZID=Europe/Paris:20260312T120000
DTSTAMP:20260425T125318
CREATED:20260106T174431Z
LAST-MODIFIED:20260106T174458Z
UID:1679-1773304200-1773316800@espace-enfants-grand-ried.eu
SUMMARY:Permanence d'écoute aux familles
DESCRIPTION:Besoin de parler\, de poser une question sur le comportement de votre enfant\, la vie de famille ou une situation qui vous préoccupe ?\nClaire Schmitt Moeglin psychologue vous accueille en toute confidentialité\, pour un temps d’échange et d’écoute.\nUn espace pour souffler\, comprendre\, trouver des repères. \nPour toutes les familles (membres ou non)\, les permanences d’écoute gratuites se font une fois par mois sur rendez-vous à 8h30 ou 11h \nLa psychologue est également présente au royaume des Galopins à la même date de 9h30 à 11h. \nPour prendre rendez-vous\, contactez notre secrétariat.
URL:https://espace-enfants-grand-ried.eu/event/permanence-dcoute-aux-familles-1203/
LOCATION:RAI\, 25 rue des artisans\, Sundhouse\, 67920
CATEGORIES:parentalité
ATTACH;FMTTYPE=image/png:https://espace-enfants-grand-ried.eu/wp-content/uploads/2026/01/Copie-de-Bientot-de-retour-1140-x-350-px-1.png
END:VEVENT
BEGIN:VEVENT
DTSTART;TZID=Europe/Paris:20260314T080000
DTEND;TZID=Europe/Paris:20260321T170000
DTSTAMP:20260425T125318
CREATED:20260203T105735Z
LAST-MODIFIED:20260217T132930Z
UID:2471-1773475200-1774112400@espace-enfants-grand-ried.eu
SUMMARY:semaine nationale de la petite enfance
DESCRIPTION:La Semaine Nationale de la Petite Enfance est un événement fédérateur réunissant chaque année les enfants et leurs familles\, les professionnels et les collectivités pour sensibiliser autour des enjeux de l’éveil et du développement des tout-petits. Elle met en lumière l’importance cruciale des premières années de vie\, déterminantes pour le développement cognitif\, émotionnel et social des tout-petits. \nLe réseau de soutien à la parentalité dédie tout le mois de mars aux tout-petits\, retrouvez l’ensemble du programme ici
URL:https://espace-enfants-grand-ried.eu/event/semaine-nationale-de-la-petite-enfance/
LOCATION:LAEP Royaume des Galopins\, 25 rue des artisans\, Sundhouse\, 67920
CATEGORIES:parentalité
ATTACH;FMTTYPE=image/png:https://espace-enfants-grand-ried.eu/wp-content/uploads/2026/02/1080x1080-snpe-2026.png
END:VEVENT
BEGIN:VEVENT
DTSTART;TZID=Europe/Paris:20260317T193000
DTEND;TZID=Europe/Paris:20260317T230000
DTSTAMP:20260425T125318
CREATED:20260212T111025Z
LAST-MODIFIED:20260212T111025Z
UID:2619-1773775800-1773788400@espace-enfants-grand-ried.eu
SUMMARY:Kfé Parents "Petits et grands changements dans la famille comment les accompagner?"
DESCRIPTION:Dans le cadre de la semaine de la petite enfance venez échanger autour du thème Petits et grands changements dans la famille comment les accompagner?\nDéménagement\, séparation\, recomposition\, arrivée d’un enfant… les changements familiaux\, petits ou grands\, prévus ou imprévus peuvent bousculer l’équilibre familial.Cette rencontre propose de comprendre leurs effets sur les enfants et les adultes\, et d’identifier des repères pour mieux les accompagner.\n\nIntervenante : Claire Schmitt-Moeglin\, psychologue clinicienne du développement spécialité enfance\nSoirée en présentiel – Possible en visio (pour obtenir le lien envoyez un mail)Gratuit – Sans Inscription
URL:https://espace-enfants-grand-ried.eu/event/kfe-parents-petits-et-grands-changements-dans-la-famille-comment-les-accompagner/
LOCATION:LAEP Royaume des Galopins\, 25 rue des artisans\, Sundhouse\, 67920
CATEGORIES:évènements,parentalité
ATTACH;FMTTYPE=image/jpeg:https://espace-enfants-grand-ried.eu/wp-content/uploads/2026/02/image-slide-EEGR-kf-parent-Petits-et-grands-changements-fev26.jpeg
END:VEVENT
END:VCALENDAR