BEGIN:VCALENDAR
VERSION:2.0
PRODID:-//espace enfant grand ried - ECPv6.15.20//NONSGML v1.0//EN
CALSCALE:GREGORIAN
METHOD:PUBLISH
X-WR-CALNAME:espace enfant grand ried
X-ORIGINAL-URL:https://espace-enfants-grand-ried.eu
X-WR-CALDESC:Évènements pour espace enfant grand ried
REFRESH-INTERVAL;VALUE=DURATION:PT1H
X-Robots-Tag:noindex
X-PUBLISHED-TTL:PT1H
BEGIN:VTIMEZONE
TZID:Europe/Paris
BEGIN:DAYLIGHT
TZOFFSETFROM:+0100
TZOFFSETTO:+0200
TZNAME:CEST
DTSTART:20250330T010000
END:DAYLIGHT
BEGIN:STANDARD
TZOFFSETFROM:+0200
TZOFFSETTO:+0100
TZNAME:CET
DTSTART:20251026T010000
END:STANDARD
BEGIN:DAYLIGHT
TZOFFSETFROM:+0100
TZOFFSETTO:+0200
TZNAME:CEST
DTSTART:20260329T010000
END:DAYLIGHT
BEGIN:STANDARD
TZOFFSETFROM:+0200
TZOFFSETTO:+0100
TZNAME:CET
DTSTART:20261025T010000
END:STANDARD
BEGIN:DAYLIGHT
TZOFFSETFROM:+0100
TZOFFSETTO:+0200
TZNAME:CEST
DTSTART:20270328T010000
END:DAYLIGHT
BEGIN:STANDARD
TZOFFSETFROM:+0200
TZOFFSETTO:+0100
TZNAME:CET
DTSTART:20271031T010000
END:STANDARD
END:VTIMEZONE
BEGIN:VEVENT
DTSTART;TZID=Europe/Paris:20260106T090000
DTEND;TZID=Europe/Paris:20260106T110000
DTSTAMP:20260423T155849
CREATED:20251230T190209Z
LAST-MODIFIED:20260105T162350Z
UID:1322-1767690000-1767697200@espace-enfants-grand-ried.eu
SUMMARY:Eveil corporel dès 3 mois
DESCRIPTION:Eveil à la danse et au chant\, en duo parent/enfant.\nUn son\, des instruments\, une voix\, un corps en mouvement. Un moment de poésie autour du développement sensori-moteur de l’enfant pour que tout s’accorde\, la voix\, le corps\, la rencontre. \nA 9h séance pour les nourrissons dès 3 mois jusqu’au 4 pattes \nA 9h55 séance pour les enfants crapahuteurs (à partir du 4 pattes) \nIntervenante : Nathalie Tuleff – Bébeillez-vous \nGRATUIT – Carte de membre obligatoire
URL:https://espace-enfants-grand-ried.eu/event/eveil-corporel/
LOCATION:Maison des associations\, route de Bindernheim\, Hilsenheim\, 67600\, France
CATEGORIES:Bout'chou · 0 à 3ans
ATTACH;FMTTYPE=image/jpeg:https://espace-enfants-grand-ried.eu/wp-content/uploads/2025/12/163189720_1818662441628980_5258320970321998862_n-e1629729006992.jpg
END:VEVENT
BEGIN:VEVENT
DTSTART;TZID=Europe/Paris:20260109T140000
DTEND;TZID=Europe/Paris:20260109T150000
DTSTAMP:20260423T155849
CREATED:20260105T154102Z
LAST-MODIFIED:20260106T145202Z
UID:1466-1767967200-1767970800@espace-enfants-grand-ried.eu
SUMMARY:Chant prénatal future maman
DESCRIPTION:Doux et apaisant\, le chant prénatal est une excellente méthode de préparation à l’accouchement. Il décontracte les futurs parents et rassure le nourrisson. (2 personnes max.) \nIntervenante : Chantal Schaeffert – Rebert \n\nCarte de membre obligatoire
URL:https://espace-enfants-grand-ried.eu/event/chant-prnatal-future-maman-901/
LOCATION:Chantal Schaeffer- Rebert\, 8 rue des Vergers\, Hilsenheim\, France
CATEGORIES:Bout'chou · 0 à 3ans
ATTACH;FMTTYPE=image/jpeg:https://espace-enfants-grand-ried.eu/wp-content/uploads/2025/10/135587210_1761711547324070_572369067633342688_n-e1631116408677.jpg
END:VEVENT
BEGIN:VEVENT
DTSTART;TZID=Europe/Paris:20260109T200000
DTEND;TZID=Europe/Paris:20260109T230000
DTSTAMP:20260423T155849
CREATED:20260105T164700Z
LAST-MODIFIED:20260105T164700Z
UID:1571-1767988800-1767999600@espace-enfants-grand-ried.eu
SUMMARY:Soirée Jeux
DESCRIPTION:Amateurs\, passionnés ou simplement curieux\, venez en famille découvrir des univers ludiques toujours renouvelés lors de la soirée jeux de Ludo’ried à Hessenheim. \nDe 20h à 23h\, partageons un moment chaleureux et convivial autour du jeu. Chacun peut apporter de quoi se régaler. \nSoirée gratuite (carte de membre obligatoire à partir de la 2ᵉ soirée). \nTout publicLes enfants participent accompagnés d’un adulte\, qui reste présent pour jouer et partager ce moment avec eux.
URL:https://espace-enfants-grand-ried.eu/event/soiree-jeux/
LOCATION:ludo’ried\, Rued de Baldenheim\, Hessenheim\, 67390\, France
CATEGORIES:ludoried
ATTACH;FMTTYPE=image/jpeg:https://espace-enfants-grand-ried.eu/wp-content/uploads/2025/08/hand-throws-dice-board-game.jpg
END:VEVENT
BEGIN:VEVENT
DTSTART;TZID=Europe/Paris:20260110T090000
DTEND;TZID=Europe/Paris:20260110T110000
DTSTAMP:20260423T155849
CREATED:20260106T133541Z
LAST-MODIFIED:20260107T074042Z
UID:1584-1768035600-1768042800@espace-enfants-grand-ried.eu
SUMMARY:Poterie parents / enfants dès 3 ans
DESCRIPTION:Atelier Duo pour enfants accompagnés d’un adulte \nTaper la terre\, faire de la barbotine\, créer\, assembler\, voici le programme de l’atelier poterie ! \nIntervenante : Anne Moreau – Artiste potière \nCarte de membre obligatoire \n(14\,40€ villages Hors CC du Grand Ried de Marckolsheim)
URL:https://espace-enfants-grand-ried.eu/event/poterie-parents-enfants-des-3-ans/
LOCATION:création Mana\, 13 rue de Saasenheim\, SUNDHOUSE\, bas-rhin\, 67920\, France
CATEGORIES:En famille dès 3 ans
ATTACH;FMTTYPE=image/jpeg:https://espace-enfants-grand-ried.eu/wp-content/uploads/2026/01/20240601_101630.jpg
END:VEVENT
BEGIN:VEVENT
DTSTART;TZID=Europe/Paris:20260110T103000
DTEND;TZID=Europe/Paris:20260110T113000
DTSTAMP:20260423T155849
CREATED:20260103T112830Z
LAST-MODIFIED:20260106T145120Z
UID:1378-1768041000-1768044600@espace-enfants-grand-ried.eu
SUMMARY:Langue signée
DESCRIPTION:Langue signée\nParce que les gestes sont aussi important que les mots\, venez découvrir la langue des signes pour les bébés ! \nIntervenante : Bérénice Uhl \n\n\nCarte de membre obligatoire
URL:https://espace-enfants-grand-ried.eu/event/langue-signee/
LOCATION:Espace Enfants du Grand Ried\, 25 rue des artisans\, SUNDHOUSE\, 67920\, France
CATEGORIES:Bout'chou · 0 à 3ans
ATTACH;FMTTYPE=image/jpeg:https://espace-enfants-grand-ried.eu/wp-content/uploads/2026/01/signe.jpg
END:VEVENT
BEGIN:VEVENT
DTSTART;TZID=Europe/Paris:20260115T083000
DTEND;TZID=Europe/Paris:20260115T120000
DTSTAMP:20260423T155849
CREATED:20260106T173214Z
LAST-MODIFIED:20260106T174217Z
UID:1667-1768465800-1768478400@espace-enfants-grand-ried.eu
SUMMARY:Permanence d'écoute aux familles
DESCRIPTION:Besoin de parler\, de poser une question sur le comportement de votre enfant\, la vie de famille ou une situation qui vous préoccupe ?\nClaire Schmitt Moeglin psychologue vous accueille en toute confidentialité\, pour un temps d’échange et d’écoute.\nUn espace pour souffler\, comprendre\, trouver des repères. \nPour toutes les familles (membres ou non)\, les permanences d’écoute gratuites se font une fois par mois sur rendez-vous à 8h30 ou 11h \nLa psychologue est également présente au royaume des Galopins à la même date de 9h30 à 11h. \nPour prendre rendez-vous\, contactez notre secrétariat.
URL:https://espace-enfants-grand-ried.eu/event/permanence-decoute-aux-familles/
LOCATION:RAI\, 25 rue des artisans\, Sundhouse\, 67920
CATEGORIES:parentalité
ATTACH;FMTTYPE=image/png:https://espace-enfants-grand-ried.eu/wp-content/uploads/2026/01/Copie-de-Bientot-de-retour-1140-x-350-px-1.png
END:VEVENT
BEGIN:VEVENT
DTSTART;TZID=Europe/Paris:20260117T090000
DTEND;TZID=Europe/Paris:20260117T110000
DTSTAMP:20260423T155849
CREATED:20260106T135110Z
LAST-MODIFIED:20260107T074020Z
UID:1597-1768640400-1768647600@espace-enfants-grand-ried.eu
SUMMARY:Poterie parents / enfants dès 3 ans
DESCRIPTION:Atelier Duo pour enfants accompagnés d’un adulte \nTaper la terre\, faire de la barbotine\, créer\, assembler\, voici le programme de l’atelier poterie ! \nIntervenante : Anne Moreau – Artiste potière \nCarte de membre obligatoire \n(14\,40€ villages Hors CC du Grand Ried de Marckolsheim)
URL:https://espace-enfants-grand-ried.eu/event/poterie-parentsenfants-ds-3-ans-1701/
LOCATION:création Mana\, 13 rue de Saasenheim\, SUNDHOUSE\, bas-rhin\, 67920\, France
CATEGORIES:En famille dès 3 ans
ATTACH;FMTTYPE=image/jpeg:https://espace-enfants-grand-ried.eu/wp-content/uploads/2026/01/20240601_101630.jpg
END:VEVENT
BEGIN:VEVENT
DTSTART;TZID=Europe/Paris:20260117T100000
DTEND;TZID=Europe/Paris:20260117T110000
DTSTAMP:20260423T155849
CREATED:20260106T141447Z
LAST-MODIFIED:20260116T075002Z
UID:1610-1768644000-1768647600@espace-enfants-grand-ried.eu
SUMMARY:Gym parents / enfants de 3 à 6 ans COMPLET
DESCRIPTION:Atelier DUO pour enfants accompagnés d’un adulte. \nL’atelier se composera d’un temps d’éveil corporel (autour de l’intégration des réflexes archaïques)\, d’un parcours de motricité et d’un moment de relaxation/conscience corporelle. Les parents participeront avec leurs enfants. Des propositions seront faites en binôme enfant-parent. \nIntervenant : Kevin Maître \nCarte de membre obligatoire \n(4\,60€ villages Hors CC du Grand Ried de Marckolsheim)
URL:https://espace-enfants-grand-ried.eu/event/gym-parents-enfants-de-3-a-6-ans/
LOCATION:Ecole élémentaire\, 25 rue de Hilsenheim\, Wittisheim\, 67920\, France
CATEGORIES:En famille dès 3 ans
ATTACH;FMTTYPE=image/jpeg:https://espace-enfants-grand-ried.eu/wp-content/uploads/2026/01/20211211_150435-e1767717751236.jpg
END:VEVENT
BEGIN:VEVENT
DTSTART;TZID=Europe/Paris:20260117T140000
DTEND;TZID=Europe/Paris:20260117T170000
DTSTAMP:20260423T155849
CREATED:20260105T161548Z
LAST-MODIFIED:20260107T073643Z
UID:1548-1768658400-1768669200@espace-enfants-grand-ried.eu
SUMMARY:Couture parents / enfants dès 6 ans
DESCRIPTION:Atelier DUO pour enfants à partir de 6 ans accompagnés d’un adulte. Réalisation en couture à la main et collage\, dessin construit en binome : « Fabrique ton Bretzel ». \nPrévoir une collation\, un temps de pause sera proposé. \nIntervenante : Astrid ZUMSTEEG \n\n\nCarte de membre obligatoire \n(12€ villages hors CC du Ried de Marckolsheim)
URL:https://espace-enfants-grand-ried.eu/event/couture-en-duo-des-6-ans/
LOCATION:Annexe de la Mairie\, 10 rue de Schoenau\, Richtolsheim\, 67390
CATEGORIES:En famille dès 3 ans
ATTACH;FMTTYPE=image/jpeg:https://espace-enfants-grand-ried.eu/wp-content/uploads/2026/01/WP_20190719_004.jpg
END:VEVENT
BEGIN:VEVENT
DTSTART;TZID=Europe/Paris:20260123T134500
DTEND;TZID=Europe/Paris:20260123T144500
DTSTAMP:20260423T155849
CREATED:20260103T113510Z
LAST-MODIFIED:20260106T164429Z
UID:1392-1769175900-1769179500@espace-enfants-grand-ried.eu
SUMMARY:Sophrologie future et jeune maman
DESCRIPTION:Sophrologie future et jeune maman\nLa sophrologie pour vivre une grossesse sereine et gérer la fatigue\, les angoisses pendant et après la naissance de votre bébé. A vivre aussi en couple. \nCes ateliers vous permettront\, de mieux accepter tous les bouleversements physiques et émotionnels. Vous apprendrez des exercices simples et efficaces que vous pourrez reproduire chez vous. Ainsi\, vous deviendrez actrice de votre grossesse et de votre accouchement. \nIntervenante : Rachel Berger – Sophrologue \nCarte de membre obligatoire
URL:https://espace-enfants-grand-ried.eu/event/sophrologie-future-et-jeune-maman/
LOCATION:Rachel Berger\, 63 rue de Hilsenheim\, Wittisheim\, 67820
CATEGORIES:Bout'chou · 0 à 3ans
ATTACH;FMTTYPE=image/jpeg:https://espace-enfants-grand-ried.eu/wp-content/uploads/2026/01/pregnant-1088240_1280-e1604391645876.jpg
END:VEVENT
BEGIN:VEVENT
DTSTART;TZID=Europe/Paris:20260124T090000
DTEND;TZID=Europe/Paris:20260124T110000
DTSTAMP:20260423T155849
CREATED:20260106T135307Z
LAST-MODIFIED:20260107T074129Z
UID:1600-1769245200-1769252400@espace-enfants-grand-ried.eu
SUMMARY:Poterie parents / enfants dès 3 ans
DESCRIPTION:Atelier Duo pour enfants accompagnés d’un adulte \nTaper la terre\, faire de la barbotine\, créer\, assembler\, voici le programme de l’atelier poterie ! \nIntervenante : Anne Moreau – Artiste potière \nCarte de membre obligatoire \n(14\,40€ villages Hors CC du Grand Ried de Marckolsheim)
URL:https://espace-enfants-grand-ried.eu/event/poterie-parentsenfants-ds-3-ans-2401/
LOCATION:création Mana\, 13 rue de Saasenheim\, SUNDHOUSE\, bas-rhin\, 67920\, France
CATEGORIES:En famille dès 3 ans
ATTACH;FMTTYPE=image/jpeg:https://espace-enfants-grand-ried.eu/wp-content/uploads/2026/01/20240601_101630.jpg
END:VEVENT
BEGIN:VEVENT
DTSTART;TZID=Europe/Paris:20260124T093000
DTEND;TZID=Europe/Paris:20260124T103000
DTSTAMP:20260423T155849
CREATED:20260105T155009Z
LAST-MODIFIED:20260106T164838Z
UID:1449-1769247000-1769250600@espace-enfants-grand-ried.eu
SUMMARY:Montessori 18 mois à 3 ans
DESCRIPTION:Virginie vous propose de découvrir Montessori avec son matériel dans son éducathèque (1 adulte / 1 enfant). \nIntervenante : Virginie Bertrand – https://desracinesetdesailes.wixsite.com/educatheque \nCarte de membre obligatoire
URL:https://espace-enfants-grand-ried.eu/event/montessori-18-mois-a-3-ans/
LOCATION:Educathèque des racines et des ailes\, 9 Rue des Tulipes\,\, Muttersholtz\, 67600
CATEGORIES:Bout'chou · 0 à 3ans
ATTACH;FMTTYPE=image/jpeg:https://espace-enfants-grand-ried.eu/wp-content/uploads/2025/12/337829042_231403366078790_1280205057563853184_n-e1767439096718.jpg
END:VEVENT
BEGIN:VEVENT
DTSTART;TZID=Europe/Paris:20260124T100000
DTEND;TZID=Europe/Paris:20260124T120000
DTSTAMP:20260423T155849
CREATED:20260106T144420Z
LAST-MODIFIED:20260107T073817Z
UID:1625-1769248800-1769256000@espace-enfants-grand-ried.eu
SUMMARY:Vannerie parents / enfants dès 6 ans
DESCRIPTION:Atelier Duo pour enfant à partir de 6 ans accompagnés d’un adulte La matière première\, les outils\, le savoir-faire et la bonne humeur seront fournis systématiquement. \n\n\n\nIntervenante : Emma Pieters \nCarte de membre obligatoire \n(18€ villages hors CC du Grand Ried)
URL:https://espace-enfants-grand-ried.eu/event/vannerie-parents-enfants-des-6-ans/
LOCATION:préau\, impasse du chateau\, Sundhouse\, bas-rhin\, 67920\, France
CATEGORIES:En famille dès 3 ans
ATTACH;FMTTYPE=image/jpeg:https://espace-enfants-grand-ried.eu/wp-content/uploads/2026/01/64f5e53e14ada_images_large.jpeg
END:VEVENT
BEGIN:VEVENT
DTSTART;TZID=Europe/Paris:20260128T140000
DTEND;TZID=Europe/Paris:20260128T160000
DTSTAMP:20260423T155849
CREATED:20260105T163008Z
LAST-MODIFIED:20260106T165113Z
UID:1565-1769608800-1769616000@espace-enfants-grand-ried.eu
SUMMARY:Montessori parents / enfants de 3 à 6 ans
DESCRIPTION:Virginie vous propose de découvrir Montessori avec son matériel dans son éducathèque en atelier DUO pour enfants accompagnés d’un adulte. \n\n\n\nIntervenante : Virginie Bertrand – https://desracinesetdesailes.wixsite.com/educatheque \nCarte de membre obligatoire \n(6€ villages hors CC du Ried de Marckolsheim)
URL:https://espace-enfants-grand-ried.eu/event/montessori-parents-enfants-de-3-a-6-ans/
LOCATION:Educathèque des racines et des ailes\, 9 Rue des Tulipes\,\, Muttersholtz\, 67600
CATEGORIES:En famille dès 3 ans
ATTACH;FMTTYPE=image/jpeg:https://espace-enfants-grand-ried.eu/wp-content/uploads/2025/10/103311556_586920722236522_143432105918296935_o-e1600258937629.jpg
END:VEVENT
END:VCALENDAR