BEGIN:VCALENDAR
VERSION:2.0
PRODID:-//espace enfant grand ried - ECPv6.15.18//NONSGML v1.0//EN
CALSCALE:GREGORIAN
METHOD:PUBLISH
X-ORIGINAL-URL:https://espace-enfants-grand-ried.eu
X-WR-CALDESC:Évènements pour espace enfant grand ried
REFRESH-INTERVAL;VALUE=DURATION:PT1H
X-Robots-Tag:noindex
X-PUBLISHED-TTL:PT1H
BEGIN:VTIMEZONE
TZID:Europe/Paris
BEGIN:DAYLIGHT
TZOFFSETFROM:+0100
TZOFFSETTO:+0200
TZNAME:CEST
DTSTART:20250330T010000
END:DAYLIGHT
BEGIN:STANDARD
TZOFFSETFROM:+0200
TZOFFSETTO:+0100
TZNAME:CET
DTSTART:20251026T010000
END:STANDARD
BEGIN:DAYLIGHT
TZOFFSETFROM:+0100
TZOFFSETTO:+0200
TZNAME:CEST
DTSTART:20260329T010000
END:DAYLIGHT
BEGIN:STANDARD
TZOFFSETFROM:+0200
TZOFFSETTO:+0100
TZNAME:CET
DTSTART:20261025T010000
END:STANDARD
BEGIN:DAYLIGHT
TZOFFSETFROM:+0100
TZOFFSETTO:+0200
TZNAME:CEST
DTSTART:20270328T010000
END:DAYLIGHT
BEGIN:STANDARD
TZOFFSETFROM:+0200
TZOFFSETTO:+0100
TZNAME:CET
DTSTART:20271031T010000
END:STANDARD
END:VTIMEZONE
BEGIN:VEVENT
DTSTART;TZID=Europe/Paris:20260306T140000
DTEND;TZID=Europe/Paris:20260306T150000
DTSTAMP:20260423T123920
CREATED:20260204T112118Z
LAST-MODIFIED:20260204T112213Z
UID:2525-1772805600-1772809200@espace-enfants-grand-ried.eu
SUMMARY:Chant prénatal future maman
DESCRIPTION:Doux et apaisant\, le chant prénatal est une excellente méthode de préparation à l’accouchement. Il décontracte les futurs parents et rassure le nourrisson. (2 personnes max.) \nIntervenante : Chantal Schaeffer – Rebert \n\nCarte de membre obligatoire
URL:https://espace-enfants-grand-ried.eu/event/chant-prnatal-future-maman-0603/
LOCATION:Chantal Schaeffer- Rebert\, 8 rue des Vergers\, Hilsenheim\, France
CATEGORIES:Bout'chou · 0 à 3ans
ATTACH;FMTTYPE=image/jpeg:https://espace-enfants-grand-ried.eu/wp-content/uploads/2025/10/135587210_1761711547324070_572369067633342688_n-e1631116408677.jpg
END:VEVENT
BEGIN:VEVENT
DTSTART;TZID=Europe/Paris:20260307T090000
DTEND;TZID=Europe/Paris:20260307T110000
DTSTAMP:20260423T123920
CREATED:20260203T131140Z
LAST-MODIFIED:20260302T131302Z
UID:2487-1772874000-1772881200@espace-enfants-grand-ried.eu
SUMMARY:Poterie parents / enfants dès 3 ans COMPLET
DESCRIPTION:Atelier Duo pour enfants accompagnés d’un adulte \nTaper la terre\, faire de la barbotine\, créer\, assembler\, voici le programme de l’atelier poterie ! \nIntervenante : Anne Moreau – Artiste potière \nCarte de membre obligatoire \n(14\,40€ villages Hors CC du Grand Ried de Marckolsheim)
URL:https://espace-enfants-grand-ried.eu/event/poterie-parents-enfants-ds-3-ans-0703/
LOCATION:création Mana\, 13 rue de Saasenheim\, SUNDHOUSE\, bas-rhin\, 67920\, France
CATEGORIES:En famille dès 3 ans
ATTACH;FMTTYPE=image/jpeg:https://espace-enfants-grand-ried.eu/wp-content/uploads/2026/01/20240601_101630.jpg
END:VEVENT
BEGIN:VEVENT
DTSTART;TZID=Europe/Paris:20260307T093000
DTEND;TZID=Europe/Paris:20260307T113000
DTSTAMP:20260423T123920
CREATED:20260203T114354Z
LAST-MODIFIED:20260203T142711Z
UID:2477-1772875800-1772883000@espace-enfants-grand-ried.eu
SUMMARY:LEGO Parents / enfants de 3 à 12 ans
DESCRIPTION:Atelier DUO pour enfants accompagnés d’un adulte \nChallenge LEGO\, construction d’une tour et découverte des briques \nIntervenant : Association Fanabrick \nCarte de membre obligatoire \n(12€ villages hors CC du Ried de Marckolsheim)
URL:https://espace-enfants-grand-ried.eu/event/lego-parents-enfants-de-3-a-12-ans/
LOCATION:Maison des associations\, route de Bindernheim\, Hilsenheim\, 67600\, France
CATEGORIES:En famille dès 3 ans
ATTACH;FMTTYPE=image/jpeg:https://espace-enfants-grand-ried.eu/wp-content/uploads/2026/02/20241109_102100.jpg
END:VEVENT
BEGIN:VEVENT
DTSTART;TZID=Europe/Paris:20260307T103000
DTEND;TZID=Europe/Paris:20260307T113000
DTSTAMP:20260423T123920
CREATED:20260204T112414Z
LAST-MODIFIED:20260204T112458Z
UID:2528-1772879400-1772883000@espace-enfants-grand-ried.eu
SUMMARY:Langue signée
DESCRIPTION:Parce que les gestes sont aussi important que les mots\, venez découvrir la langue des signes pour les bébés ! \nIntervenante : Bérénice Uhl \nCarte de membre obligatoire
URL:https://espace-enfants-grand-ried.eu/event/langue-signe-0703/
LOCATION:Espace Enfants du Grand Ried\, 25 rue des artisans\, SUNDHOUSE\, 67920\, France
CATEGORIES:Bout'chou · 0 à 3ans
ATTACH;FMTTYPE=image/jpeg:https://espace-enfants-grand-ried.eu/wp-content/uploads/2026/01/signe.jpg
END:VEVENT
BEGIN:VEVENT
DTSTART;TZID=Europe/Paris:20260308T090000
DTEND;TZID=Europe/Paris:20260308T103000
DTSTAMP:20260423T123920
CREATED:20260203T130539Z
LAST-MODIFIED:20260203T130715Z
UID:2482-1772960400-1772965800@espace-enfants-grand-ried.eu
SUMMARY:Poney parents / enfants dès 4 ans
DESCRIPTION:Atelier DUO pour enfants à partir de 4 ans accompagnés d’un adulte. \nBrosser\, préparer son poney\, promenade et découverte des animaux de la ferme \nIntervenante : Caroline Denni – L’écurie d’Helsa \nCarte de membre obligatoire \n(9\,60€ villages hors CC du Ried de Marckolsheim)
URL:https://espace-enfants-grand-ried.eu/event/poney-parents-enfants-ds-4-ans-0804/
LOCATION:L’écurie d’Helsa\, rue de la promenade\, Hilsenheim\, 67600\, France
CATEGORIES:En famille dès 3 ans
ATTACH;FMTTYPE=image/jpeg:https://espace-enfants-grand-ried.eu/wp-content/uploads/2026/01/20240505_091611.jpg
END:VEVENT
BEGIN:VEVENT
DTSTART;TZID=Europe/Paris:20260308T104500
DTEND;TZID=Europe/Paris:20260308T113000
DTSTAMP:20260423T123920
CREATED:20260204T112810Z
LAST-MODIFIED:20260302T131226Z
UID:2534-1772966700-1772969400@espace-enfants-grand-ried.eu
SUMMARY:Baby poney 2 à 3 ans COMPLET
DESCRIPTION:Nous proposerons aux enfants de 2 à 3 ans accompagnés d’un adulte de venir découvrir les poneys. Au programme : brossage\, parcours et modules \nIntervenante : Caroline Denni – L’écurie d’Helsa \nCarte de membre obligatoire
URL:https://espace-enfants-grand-ried.eu/event/baby-poney-2-3-ans-0803/
LOCATION:L’écurie d’Helsa\, rue de la promenade\, Hilsenheim\, 67600\, France
CATEGORIES:Bout'chou · 0 à 3ans
ATTACH;FMTTYPE=image/jpeg:https://espace-enfants-grand-ried.eu/wp-content/uploads/2026/01/163565221_1818657411629483_5979461624521988349_n-e1631010947225.jpg
END:VEVENT
BEGIN:VEVENT
DTSTART;TZID=Europe/Paris:20260309T183000
DTEND;TZID=Europe/Paris:20260309T183000
DTSTAMP:20260423T123920
CREATED:20260204T114325Z
LAST-MODIFIED:20260204T114447Z
UID:2540-1773081000-1773081000@espace-enfants-grand-ried.eu
SUMMARY:Hypnose
DESCRIPTION:Accompagnement à la naissance par l’hypnose\, accessible dès le début de la grossesse et jusqu’au 1 an de bébé. \nRéservé aux (futurs) mères\, pas de présence du bébé \nIntervenante : Roselyne Wagner – Hypnothérapeute \nCarte de membre obligatoire
URL:https://espace-enfants-grand-ried.eu/event/hypnose/
LOCATION:Espace Enfants du Grand Ried\, 25 rue des artisans\, SUNDHOUSE\, 67920\, France
CATEGORIES:Bout'chou · 0 à 3ans
ATTACH;FMTTYPE=image/webp:https://espace-enfants-grand-ried.eu/wp-content/uploads/2026/02/baby-500x333-1.webp
END:VEVENT
BEGIN:VEVENT
DTSTART;TZID=Europe/Paris:20260310T090000
DTEND;TZID=Europe/Paris:20260310T110000
DTSTAMP:20260423T123920
CREATED:20260204T125753Z
LAST-MODIFIED:20260204T125836Z
UID:2543-1773133200-1773140400@espace-enfants-grand-ried.eu
SUMMARY:Eveil corporel dès 3 mois
DESCRIPTION:Eveil corporel dès 3 mois\n« Babibal ». Eveil à la danse et au chant\, en duo parent/enfant\nUn son\, des instruments\, une voix\, un corps en mouvement. Un moment de poésie autour du développement sensori-moteur de l’enfant pour que tout s’accorde\, la voix\, le corps\, la rencontre. \nA 9h séance pour les nourrissons dès 3 mois jusqu’au 4 pattes \nA 9h55 séance pour les enfants crapahuteurs (à partir du 4 pattes) \nIntervenante : Nathalie Tuleff – Bébeillez-vous \nCarte de membre obligatoire
URL:https://espace-enfants-grand-ried.eu/event/eveil-corporel-ds-3-mois-1003/
LOCATION:Maison des associations\, route de Bindernheim\, Hilsenheim\, 67600\, France
CATEGORIES:Bout'chou · 0 à 3ans
ATTACH;FMTTYPE=image/jpeg:https://espace-enfants-grand-ried.eu/wp-content/uploads/2025/12/163189720_1818662441628980_5258320970321998862_n-e1629729006992.jpg
END:VEVENT
BEGIN:VEVENT
DTSTART;TZID=Europe/Paris:20260310T183000
DTEND;TZID=Europe/Paris:20260310T193000
DTSTAMP:20260423T123920
CREATED:20260127T142943Z
LAST-MODIFIED:20260127T144131Z
UID:1912-1773167400-1773171000@espace-enfants-grand-ried.eu
SUMMARY:Cirque jeune public
DESCRIPTION:Un solo de jonglage graphique\, drôle et expressif qui s’inspire de l’univers du cartoon. \nDurée 50 minutes \nDès 6 ans (accompagnateur adulte indispensable) \ninscription obligatoire sur Hello Asso : https://www.helloasso.com/associations/espace-enfants-grand-ried/evenements/cirque-jeune-public-sortie-en-famille?
URL:https://espace-enfants-grand-ried.eu/event/cirque-jeune-public/
LOCATION:Les Tanzmatten\, Espace culturel et festif\, quai de l'ill\, selestat\, 67600\, France
CATEGORIES:évènements
ATTACH;FMTTYPE=image/jpeg:https://espace-enfants-grand-ried.eu/wp-content/uploads/2026/01/0365_20241115_MOREL__MG_9594_HD_MonographieElbeuf.jpeg
END:VEVENT
BEGIN:VEVENT
DTSTART;TZID=Europe/Paris:20260312T083000
DTEND;TZID=Europe/Paris:20260312T120000
DTSTAMP:20260423T123920
CREATED:20260106T174431Z
LAST-MODIFIED:20260106T174458Z
UID:1679-1773304200-1773316800@espace-enfants-grand-ried.eu
SUMMARY:Permanence d'écoute aux familles
DESCRIPTION:Besoin de parler\, de poser une question sur le comportement de votre enfant\, la vie de famille ou une situation qui vous préoccupe ?\nClaire Schmitt Moeglin psychologue vous accueille en toute confidentialité\, pour un temps d’échange et d’écoute.\nUn espace pour souffler\, comprendre\, trouver des repères. \nPour toutes les familles (membres ou non)\, les permanences d’écoute gratuites se font une fois par mois sur rendez-vous à 8h30 ou 11h \nLa psychologue est également présente au royaume des Galopins à la même date de 9h30 à 11h. \nPour prendre rendez-vous\, contactez notre secrétariat.
URL:https://espace-enfants-grand-ried.eu/event/permanence-dcoute-aux-familles-1203/
LOCATION:RAI\, 25 rue des artisans\, Sundhouse\, 67920
CATEGORIES:parentalité
ATTACH;FMTTYPE=image/png:https://espace-enfants-grand-ried.eu/wp-content/uploads/2026/01/Copie-de-Bientot-de-retour-1140-x-350-px-1.png
END:VEVENT
BEGIN:VEVENT
DTSTART;TZID=Europe/Paris:20260313T200000
DTEND;TZID=Europe/Paris:20260313T230000
DTSTAMP:20260423T123920
CREATED:20260304T144405Z
LAST-MODIFIED:20260304T144405Z
UID:2790-1773432000-1773442800@espace-enfants-grand-ried.eu
SUMMARY:Soirée Jeux
DESCRIPTION:Rejoignez nous pour une soirée jeux le vendredi 13 mars 2026 à partir de 20h !Venez découvrir une ambiance conviviale autour de plateaux\, cartes et dés.La participation est gratuite pour une première découverte.À partir de la deuxième fois\, une carte de membre EEGR sera nécessaire
URL:https://espace-enfants-grand-ried.eu/event/soiree-jeux-2/
LOCATION:club house Hessenheim\, rue de Baldenheim\, Hessenheim\, 67390\, France
CATEGORIES:ludoried
ATTACH;FMTTYPE=image/png:https://espace-enfants-grand-ried.eu/wp-content/uploads/2026/03/Banniere-Fb-4.png
END:VEVENT
BEGIN:VEVENT
DTSTART;TZID=Europe/Paris:20260314T080000
DTEND;TZID=Europe/Paris:20260321T170000
DTSTAMP:20260423T123920
CREATED:20260203T105735Z
LAST-MODIFIED:20260217T132930Z
UID:2471-1773475200-1774112400@espace-enfants-grand-ried.eu
SUMMARY:semaine nationale de la petite enfance
DESCRIPTION:La Semaine Nationale de la Petite Enfance est un événement fédérateur réunissant chaque année les enfants et leurs familles\, les professionnels et les collectivités pour sensibiliser autour des enjeux de l’éveil et du développement des tout-petits. Elle met en lumière l’importance cruciale des premières années de vie\, déterminantes pour le développement cognitif\, émotionnel et social des tout-petits. \nLe réseau de soutien à la parentalité dédie tout le mois de mars aux tout-petits\, retrouvez l’ensemble du programme ici
URL:https://espace-enfants-grand-ried.eu/event/semaine-nationale-de-la-petite-enfance/
LOCATION:LAEP Royaume des Galopins\, 25 rue des artisans\, Sundhouse\, 67920
CATEGORIES:parentalité
ATTACH;FMTTYPE=image/png:https://espace-enfants-grand-ried.eu/wp-content/uploads/2026/02/1080x1080-snpe-2026.png
END:VEVENT
BEGIN:VEVENT
DTSTART;TZID=Europe/Paris:20260314T100000
DTEND;TZID=Europe/Paris:20260314T110000
DTSTAMP:20260423T123920
CREATED:20260203T131432Z
LAST-MODIFIED:20260203T131503Z
UID:2490-1773482400-1773486000@espace-enfants-grand-ried.eu
SUMMARY:Gym parents / enfants de 3 à 6 ans
DESCRIPTION:Atelier DUO pour enfants accompagnés d’un adulte. \nL’atelier se composera d’un temps d’éveil corporel (autour de l’intégration des réflexes archaïques)\, d’un parcours de motricité et d’un moment de relaxation/conscience corporelle. Les parents participeront avec leurs enfants. Des propositions seront faites en binôme enfant-parent. \nIntervenant : Kevin Maître \nCarte de membre obligatoire \n(4\,60€ villages Hors CC du Grand Ried de Marckolsheim)
URL:https://espace-enfants-grand-ried.eu/event/gym-parents-enfants-de-3-6-ans-1403/
LOCATION:Ecole élémentaire\, 25 rue de Hilsenheim\, Wittisheim\, 67920\, France
CATEGORIES:En famille dès 3 ans
ATTACH;FMTTYPE=image/jpeg:https://espace-enfants-grand-ried.eu/wp-content/uploads/2026/01/20211211_150435-e1767717751236.jpg
END:VEVENT
BEGIN:VEVENT
DTSTART;TZID=Europe/Paris:20260315T080000
DTEND;TZID=Europe/Paris:20260315T120000
DTSTAMP:20260423T123920
CREATED:20260116T075654Z
LAST-MODIFIED:20260202T154152Z
UID:1825-1773561600-1773576000@espace-enfants-grand-ried.eu
SUMMARY:Bourse petite enfance
DESCRIPTION:VENTE de toutes sortes d’articles pour enfants\, vêtements 0 à 16 ans\, jouets\, livres\, matériel de puériculture\, vêtements de grossesse… \nPré-inscription à partir d’ici
URL:https://espace-enfants-grand-ried.eu/event/bourse-petite-enfance/
LOCATION:salle Polyvalente Sundhouse\, rue du Collège\, Sundhouse\, 67920\, France
CATEGORIES:bourse,évènements
ATTACH;FMTTYPE=image/jpeg:https://espace-enfants-grand-ried.eu/wp-content/uploads/2026/01/11489346.jpg
END:VEVENT
BEGIN:VEVENT
DTSTART;TZID=Europe/Paris:20260315T100000
DTEND;TZID=Europe/Paris:20260315T120000
DTSTAMP:20260423T123920
CREATED:20260223T202151Z
LAST-MODIFIED:20260223T202707Z
UID:2734-1773568800-1773576000@espace-enfants-grand-ried.eu
SUMMARY:Mini-Escapegames parents/enfants dès 5 ans
DESCRIPTION:Retrouvez\, Cindy\, de Ludo’ried de 10h à 12h et résolvez les énigmes des escapegames parents/enfants.\nUn mini format pour un maximum de jeu : immersion\, coopération et bonne humeur seront au rendez vous !\nDes énigmes à résoudre\, des mécanismes à actionner des objets à manipuler pour gagner votre surprise de Pâques ! \nGratuit – Inscription sur place\nJoueurs : 2 à 4/5 joueurs par coffre\nTemps de jeu: 15 / 20 minutes \nPapa et maman participent à l’activité !
URL:https://espace-enfants-grand-ried.eu/event/mini-escapegames-parentsenfants-ds-5-ans/
LOCATION:salle Polyvalente Sundhouse\, rue du Collège\, Sundhouse\, 67920\, France
CATEGORIES:évènements
ATTACH;FMTTYPE=image/png:https://espace-enfants-grand-ried.eu/wp-content/uploads/2026/02/Copie-de-Banniere-Fb-1.png
END:VEVENT
BEGIN:VEVENT
DTSTART;TZID=Europe/Paris:20260317T090000
DTEND;TZID=Europe/Paris:20260317T110000
DTSTAMP:20260423T123920
CREATED:20260303T102820Z
LAST-MODIFIED:20260303T102820Z
UID:2774-1773738000-1773745200@espace-enfants-grand-ried.eu
SUMMARY:Jeux de construction d'équilibre et de déséquilibre
DESCRIPTION:Découverte de jeux adaptés aux 0 – 3 ans avec la Ludo’Ried
URL:https://espace-enfants-grand-ried.eu/event/jeux-de-construction-dequilibre-et-de-desequilibre/
LOCATION:LAEP Royaume des Galopins\, 25 rue des artisans\, Sundhouse\, 67920
CATEGORIES:LAEP
ATTACH;FMTTYPE=image/jpeg:https://espace-enfants-grand-ried.eu/wp-content/uploads/2026/03/403717178_394018782949937_7347281838232258501_n-1.jpg
END:VEVENT
BEGIN:VEVENT
DTSTART;TZID=Europe/Paris:20260317T193000
DTEND;TZID=Europe/Paris:20260317T230000
DTSTAMP:20260423T123920
CREATED:20260212T111025Z
LAST-MODIFIED:20260212T111025Z
UID:2619-1773775800-1773788400@espace-enfants-grand-ried.eu
SUMMARY:Kfé Parents "Petits et grands changements dans la famille comment les accompagner?"
DESCRIPTION:Dans le cadre de la semaine de la petite enfance venez échanger autour du thème Petits et grands changements dans la famille comment les accompagner?\nDéménagement\, séparation\, recomposition\, arrivée d’un enfant… les changements familiaux\, petits ou grands\, prévus ou imprévus peuvent bousculer l’équilibre familial.Cette rencontre propose de comprendre leurs effets sur les enfants et les adultes\, et d’identifier des repères pour mieux les accompagner.\n\nIntervenante : Claire Schmitt-Moeglin\, psychologue clinicienne du développement spécialité enfance\nSoirée en présentiel – Possible en visio (pour obtenir le lien envoyez un mail)Gratuit – Sans Inscription
URL:https://espace-enfants-grand-ried.eu/event/kfe-parents-petits-et-grands-changements-dans-la-famille-comment-les-accompagner/
LOCATION:LAEP Royaume des Galopins\, 25 rue des artisans\, Sundhouse\, 67920
CATEGORIES:évènements,parentalité
ATTACH;FMTTYPE=image/jpeg:https://espace-enfants-grand-ried.eu/wp-content/uploads/2026/02/image-slide-EEGR-kf-parent-Petits-et-grands-changements-fev26.jpeg
END:VEVENT
BEGIN:VEVENT
DTSTART;TZID=Europe/Paris:20260319T090000
DTEND;TZID=Europe/Paris:20260319T110000
DTSTAMP:20260423T123920
CREATED:20260303T103747Z
LAST-MODIFIED:20260303T103747Z
UID:2779-1773910800-1773918000@espace-enfants-grand-ried.eu
SUMMARY:Eveil à la Motricité
DESCRIPTION:Venez grimper\, sauter\, bouger à travers des parcours ludiques. \nIntervenante : Aude Bruckert Infirmière Puéricultrice
URL:https://espace-enfants-grand-ried.eu/event/eveil-a-la-motricite/
LOCATION:LAEP Royaume des Galopins\, 25 rue des artisans\, Sundhouse\, 67920
CATEGORIES:évènements,LAEP
ATTACH;FMTTYPE=image/jpeg:https://espace-enfants-grand-ried.eu/wp-content/uploads/2026/03/IMG-20260129-WA0000.jpg
END:VEVENT
BEGIN:VEVENT
DTSTART;TZID=Europe/Paris:20260320T090000
DTEND;TZID=Europe/Paris:20260320T110000
DTSTAMP:20260423T123920
CREATED:20260303T105636Z
LAST-MODIFIED:20260303T105636Z
UID:2782-1773997200-1774004400@espace-enfants-grand-ried.eu
SUMMARY:Espace doux
DESCRIPTION:« Inspiré de l’approche Snoezelen\, l’Espace Doux permet de partager un temps privilégié d’échanges. Il favorise l’éveil sensoriel de l’enfant par l’exploration dans un univers extraordinaire. » \nAnimé par l’APEDI Alsace \n 
URL:https://espace-enfants-grand-ried.eu/event/espace-doux/
LOCATION:LAEP Royaume des Galopins\, 25 rue des artisans\, Sundhouse\, 67920
CATEGORIES:évènements,LAEP
ATTACH;FMTTYPE=image/jpeg:https://espace-enfants-grand-ried.eu/wp-content/uploads/2026/03/Photo-2-e1772535350327.jpg
END:VEVENT
BEGIN:VEVENT
DTSTART;TZID=Europe/Paris:20260321T090000
DTEND;TZID=Europe/Paris:20260321T110000
DTSTAMP:20260423T123920
CREATED:20260203T131645Z
LAST-MODIFIED:20260303T131205Z
UID:2492-1774083600-1774090800@espace-enfants-grand-ried.eu
SUMMARY:Poterie parents / enfants dès 3 ans COMPLET
DESCRIPTION:Atelier Duo pour enfants accompagnés d’un adulte \nTaper la terre\, faire de la barbotine\, créer\, assembler\, voici le programme de l’atelier poterie ! \nIntervenante : Anne Moreau – Artiste potière \nCarte de membre obligatoire \n(14\,40€ villages Hors CC du Grand Ried de Marckolsheim)
URL:https://espace-enfants-grand-ried.eu/event/poterie-parents-enfants-ds-3-ans-2103/
LOCATION:création Mana\, 13 rue de Saasenheim\, SUNDHOUSE\, bas-rhin\, 67920\, France
CATEGORIES:En famille dès 3 ans
ATTACH;FMTTYPE=image/jpeg:https://espace-enfants-grand-ried.eu/wp-content/uploads/2026/01/20240601_101630.jpg
END:VEVENT
BEGIN:VEVENT
DTSTART;TZID=Europe/Paris:20260323T090000
DTEND;TZID=Europe/Paris:20260323T100000
DTSTAMP:20260423T123920
CREATED:20260204T130537Z
LAST-MODIFIED:20260204T130630Z
UID:2548-1774256400-1774260000@espace-enfants-grand-ried.eu
SUMMARY:Sophrologie future et jeune maman
DESCRIPTION:La sophrologie pour vivre une grossesse sereine et gérer la fatigue\, les angoisses pendant et après la naissance de votre bébé. A vivre aussi en couple. \nCes ateliers vous permettront\, de mieux accepter tous les bouleversements physiques et émotionnels. Vous apprendrez des exercices simples et efficaces que vous pourrez reproduire chez vous. Ainsi\, vous deviendrez actrice de votre grossesse et de votre accouchement. \nIntervenante : Rachel Berger – Sophrologue \nCarte de membre obligatoire
URL:https://espace-enfants-grand-ried.eu/event/sophrologie-future-et-jeune-maman-2303/
LOCATION:Rachel Berger\, 63 rue de Hilsenheim\, Wittisheim\, 67820
CATEGORIES:Bout'chou · 0 à 3ans
ATTACH;FMTTYPE=image/jpeg:https://espace-enfants-grand-ried.eu/wp-content/uploads/2026/01/pregnant-1088240_1280-e1604391645876.jpg
END:VEVENT
BEGIN:VEVENT
DTSTART;TZID=Europe/Paris:20260325T093000
DTEND;TZID=Europe/Paris:20260325T113000
DTSTAMP:20260423T123920
CREATED:20260316T120238Z
LAST-MODIFIED:20260324T071438Z
UID:2890-1774431000-1774438200@espace-enfants-grand-ried.eu
SUMMARY:Jeux pour tous Schoenau - 25 Mars
DESCRIPTION:Envie de passer un bon moment autour des jeux de société ? Venez découvrir une sélection de jeux pour tous les âges et tous les goûts avec la Ludo’Ried ! \n👨‍👩‍👧‍👦 Que vous soyez en famille\, entre amis ou simplement curieux\, c’est l’occasion parfaite de jouer\, découvrir de nouveaux jeux et partager un moment convivial. \n✨ Entrée gratuite – sans inscription \nAlors… 3\, 2\, 1… JOUEZ !!! 🎉
URL:https://espace-enfants-grand-ried.eu/event/jeux-pour-tous-schoenau-25-mars/
LOCATION:Maison communale de Schoenau\, Schoenau\, France
CATEGORIES:ludoried
ATTACH;FMTTYPE=image/jpeg:https://espace-enfants-grand-ried.eu/wp-content/uploads/2026/03/4585d549-b675-48b9-b56c-6e35ced12470.jpg
END:VEVENT
BEGIN:VEVENT
DTSTART;TZID=Europe/Paris:20260325T140000
DTEND;TZID=Europe/Paris:20260325T160000
DTSTAMP:20260423T123920
CREATED:20260203T131929Z
LAST-MODIFIED:20260203T131955Z
UID:2498-1774447200-1774454400@espace-enfants-grand-ried.eu
SUMMARY:Montessori parents / enfants de 3 à 6 ans
DESCRIPTION:Virginie vous propose de découvrir Montessori avec son matériel dans son éducathèque en atelier DUO pour enfants accompagnés d’un adulte. \n\n\n\nIntervenante : Virginie Bertrand – https://desracinesetdesailes.wixsite.com/educatheque \nCarte de membre obligatoire \n(6€ villages hors CC du Ried de Marckolsheim)
URL:https://espace-enfants-grand-ried.eu/event/montessori-parents-enfants-de-3-6-ans-2503/
LOCATION:Educathèque des racines et des ailes\, 9 Rue des Tulipes\,\, Muttersholtz\, 67600
CATEGORIES:En famille dès 3 ans
ATTACH;FMTTYPE=image/jpeg:https://espace-enfants-grand-ried.eu/wp-content/uploads/2025/10/103311556_586920722236522_143432105918296935_o-e1600258937629.jpg
END:VEVENT
BEGIN:VEVENT
DTSTART;TZID=Europe/Paris:20260328T090000
DTEND;TZID=Europe/Paris:20260328T110000
DTSTAMP:20260423T123920
CREATED:20260203T131807Z
LAST-MODIFIED:20260218T073859Z
UID:2495-1774688400-1774695600@espace-enfants-grand-ried.eu
SUMMARY:Poterie parents / enfants dès 3 ans COMPLET
DESCRIPTION:Atelier Duo pour enfants accompagnés d’un adulte \nTaper la terre\, faire de la barbotine\, créer\, assembler\, voici le programme de l’atelier poterie ! \nIntervenante : Anne Moreau – Artiste potière \nCarte de membre obligatoire \n(14\,40€ villages Hors CC du Grand Ried de Marckolsheim)
URL:https://espace-enfants-grand-ried.eu/event/poterie-parents-enfants-ds-3-ans-2803/
LOCATION:création Mana\, 13 rue de Saasenheim\, SUNDHOUSE\, bas-rhin\, 67920\, France
CATEGORIES:En famille dès 3 ans
ATTACH;FMTTYPE=image/jpeg:https://espace-enfants-grand-ried.eu/wp-content/uploads/2026/01/20240601_101630.jpg
END:VEVENT
BEGIN:VEVENT
DTSTART;TZID=Europe/Paris:20260328T093000
DTEND;TZID=Europe/Paris:20260328T103000
DTSTAMP:20260423T123920
CREATED:20260204T130947Z
LAST-MODIFIED:20260204T131023Z
UID:2554-1774690200-1774693800@espace-enfants-grand-ried.eu
SUMMARY:Montessori 18 mois à 3 ans
DESCRIPTION:Virginie vous propose de découvrir Montessori avec son matériel dans son éducathèque (1 adulte / 1 enfant). \nIntervenante : Virginie Bertrand – https://desracinesetdesailes.wixsite.com/educatheque \n\n\nCarte de membre obligatoire
URL:https://espace-enfants-grand-ried.eu/event/montessori-18-mois-3-ans-2803/
LOCATION:Educathèque des racines et des ailes\, 9 Rue des Tulipes\,\, Muttersholtz\, 67600
CATEGORIES:Bout'chou · 0 à 3ans
ATTACH;FMTTYPE=image/jpeg:https://espace-enfants-grand-ried.eu/wp-content/uploads/2025/12/337829042_231403366078790_1280205057563853184_n-e1767439096718.jpg
END:VEVENT
END:VCALENDAR