BEGIN:VCALENDAR
VERSION:2.0
PRODID:-//espace enfant grand ried - ECPv6.15.20//NONSGML v1.0//EN
CALSCALE:GREGORIAN
METHOD:PUBLISH
X-WR-CALNAME:espace enfant grand ried
X-ORIGINAL-URL:https://espace-enfants-grand-ried.eu
X-WR-CALDESC:Évènements pour espace enfant grand ried
REFRESH-INTERVAL;VALUE=DURATION:PT1H
X-Robots-Tag:noindex
X-PUBLISHED-TTL:PT1H
BEGIN:VTIMEZONE
TZID:Europe/Paris
BEGIN:DAYLIGHT
TZOFFSETFROM:+0100
TZOFFSETTO:+0200
TZNAME:CEST
DTSTART:20250330T010000
END:DAYLIGHT
BEGIN:STANDARD
TZOFFSETFROM:+0200
TZOFFSETTO:+0100
TZNAME:CET
DTSTART:20251026T010000
END:STANDARD
BEGIN:DAYLIGHT
TZOFFSETFROM:+0100
TZOFFSETTO:+0200
TZNAME:CEST
DTSTART:20260329T010000
END:DAYLIGHT
BEGIN:STANDARD
TZOFFSETFROM:+0200
TZOFFSETTO:+0100
TZNAME:CET
DTSTART:20261025T010000
END:STANDARD
BEGIN:DAYLIGHT
TZOFFSETFROM:+0100
TZOFFSETTO:+0200
TZNAME:CEST
DTSTART:20270328T010000
END:DAYLIGHT
BEGIN:STANDARD
TZOFFSETFROM:+0200
TZOFFSETTO:+0100
TZNAME:CET
DTSTART:20271031T010000
END:STANDARD
END:VTIMEZONE
BEGIN:VEVENT
DTSTART;TZID=Europe/Paris:20260503T090000
DTEND;TZID=Europe/Paris:20260503T103000
DTSTAMP:20260425T122259
CREATED:20260407T142159Z
LAST-MODIFIED:20260407T142223Z
UID:3531-1777798800-1777804200@espace-enfants-grand-ried.eu
SUMMARY:Poney parents / enfants dès 4 ans
DESCRIPTION:Atelier DUO pour enfants à partir de 4 ans accompagnés d’un adulte. \nBrosser\, préparer son poney\, promenade et découverte des animaux de la ferme \nIntervenante : Caroline Denni – L’écurie d’Helsa \nCarte de membre obligatoire \n(9\,60€ villages hors CC du Ried de Marckolsheim)
URL:https://espace-enfants-grand-ried.eu/event/poney-parents-enfants-ds-4-ans-0305/
LOCATION:L’écurie d’Helsa\, rue de la promenade\, Hilsenheim\, 67600\, France
CATEGORIES:En famille dès 3 ans
ATTACH;FMTTYPE=image/jpeg:https://espace-enfants-grand-ried.eu/wp-content/uploads/2026/01/20240505_091611.jpg
END:VEVENT
BEGIN:VEVENT
DTSTART;TZID=Europe/Paris:20260503T104500
DTEND;TZID=Europe/Paris:20260503T113000
DTSTAMP:20260425T122259
CREATED:20260407T142046Z
LAST-MODIFIED:20260407T142111Z
UID:3528-1777805100-1777807800@espace-enfants-grand-ried.eu
SUMMARY:Baby poney 2 à 3 ans
DESCRIPTION:Nous proposerons aux enfants de 2 à 3 ans accompagnés d’un adulte de venir découvrir les poneys. Au programme : brossage\, parcours et modules \nIntervenante : Caroline Denni – L’écurie d’Helsa \nCarte de membre obligatoire
URL:https://espace-enfants-grand-ried.eu/event/baby-poney-2-3-ans-0305/
LOCATION:L’écurie d’Helsa\, rue de la promenade\, Hilsenheim\, 67600\, France
CATEGORIES:Bout'chou · 0 à 3ans
ATTACH;FMTTYPE=image/jpeg:https://espace-enfants-grand-ried.eu/wp-content/uploads/2026/01/163565221_1818657411629483_5979461624521988349_n-e1631010947225.jpg
END:VEVENT
BEGIN:VEVENT
DTSTART;TZID=Europe/Paris:20260512T193000
DTEND;TZID=Europe/Paris:20260512T210000
DTSTAMP:20260425T122259
CREATED:20260410T130859Z
LAST-MODIFIED:20260410T173536Z
UID:3619-1778614200-1778619600@espace-enfants-grand-ried.eu
SUMMARY:Kfé Parents "Mon Premier Smartphone : un cap important pour les enfants… et les parents !"
DESCRIPTION:Entre liberté\, sécurité et responsabilité…venez échanger pour éviter les pièges\, construire un usage équilibré pour poser un cadre serein. \nAdo et pré-ado bienvenue \n\n\nIntervenante : Claire Schmitt-Moeglin\, psychologue clinicienne du développement spécialité enfance\nSoirée en présentiel – Possible en visio (pour obtenir le lien envoyez un mail)\nGratuit – Sans Inscription
URL:https://espace-enfants-grand-ried.eu/event/kf-parents-mpremier-smartphone-un-cap-important-pour-les-enfants-et-les-parents-copy/
LOCATION:mairie Artolsheim\, 11 rue principale\, artolsheim\, 67390\, France
CATEGORIES:évènements,parentalité
ATTACH;FMTTYPE=image/jpeg:https://espace-enfants-grand-ried.eu/wp-content/uploads/2026/05/low-angle-view-big-group-smiling-multiracial-teenagers-addicted-smart-phones-watching-1.jpeg
END:VEVENT
BEGIN:VEVENT
DTSTART;TZID=Europe/Paris:20260513T140000
DTEND;TZID=Europe/Paris:20260513T160000
DTSTAMP:20260425T122259
CREATED:20260407T142324Z
LAST-MODIFIED:20260407T142353Z
UID:3534-1778680800-1778688000@espace-enfants-grand-ried.eu
SUMMARY:Montessori parents / enfants de 3 à 6 ans
DESCRIPTION:Virginie vous propose de découvrir Montessori avec son matériel dans son éducathèque en atelier DUO pour enfants accompagnés d’un adulte. \n\n\n\nIntervenante : Virginie Bertrand – https://desracinesetdesailes.wixsite.com/educatheque \nCarte de membre obligatoire \n(6€ villages hors CC du Ried de Marckolsheim)
URL:https://espace-enfants-grand-ried.eu/event/montessori-parents-enfants-de-3-6-ans-1305/
LOCATION:Educathèque des racines et des ailes\, 9 Rue des Tulipes\,\, Muttersholtz\, 67600
CATEGORIES:En famille dès 3 ans
ATTACH;FMTTYPE=image/jpeg:https://espace-enfants-grand-ried.eu/wp-content/uploads/2025/10/103311556_586920722236522_143432105918296935_o-e1600258937629.jpg
END:VEVENT
BEGIN:VEVENT
DTSTART;TZID=Europe/Paris:20260516T090000
DTEND;TZID=Europe/Paris:20260516T110000
DTSTAMP:20260425T122259
CREATED:20260407T141759Z
LAST-MODIFIED:20260407T141918Z
UID:3526-1778922000-1778929200@espace-enfants-grand-ried.eu
SUMMARY:Poterie parents / enfants dès 3 ans
DESCRIPTION:Atelier Duo pour enfants accompagnés d’un adulte \nTaper la terre\, faire de la barbotine\, créer\, assembler\, voici le programme de l’atelier poterie ! \nIntervenante : Anne Moreau – Artiste potière \nCarte de membre obligatoire \n(14\,40€ villages Hors CC du Grand Ried de Marckolsheim)
URL:https://espace-enfants-grand-ried.eu/event/poterie-parents-enfants-ds-3-ans-1605/
LOCATION:création Mana\, 13 rue de Saasenheim\, SUNDHOUSE\, bas-rhin\, 67920\, France
CATEGORIES:En famille dès 3 ans
ATTACH;FMTTYPE=image/jpeg:https://espace-enfants-grand-ried.eu/wp-content/uploads/2026/01/20240601_101630.jpg
END:VEVENT
BEGIN:VEVENT
DTSTART;TZID=Europe/Paris:20260518T090000
DTEND;TZID=Europe/Paris:20260518T100000
DTSTAMP:20260425T122259
CREATED:20260407T142455Z
LAST-MODIFIED:20260407T142532Z
UID:3537-1779094800-1779098400@espace-enfants-grand-ried.eu
SUMMARY:Sophrologie future et jeune maman
DESCRIPTION:La sophrologie pour vivre une grossesse sereine et gérer la fatigue\, les angoisses pendant et après la naissance de votre bébé. A vivre aussi en couple. \nCes ateliers vous permettront\, de mieux accepter tous les bouleversements physiques et émotionnels. Vous apprendrez des exercices simples et efficaces que vous pourrez reproduire chez vous. Ainsi\, vous deviendrez actrice de votre grossesse et de votre accouchement. \nIntervenante : Rachel Berger – Sophrologue \nCarte de membre obligatoire
URL:https://espace-enfants-grand-ried.eu/event/sophrologie-future-et-jeune-maman-1805/
LOCATION:Rachel Berger\, 63 rue de Hilsenheim\, Wittisheim\, 67820
CATEGORIES:Bout'chou · 0 à 3ans
ATTACH;FMTTYPE=image/jpeg:https://espace-enfants-grand-ried.eu/wp-content/uploads/2026/01/pregnant-1088240_1280-e1604391645876.jpg
END:VEVENT
BEGIN:VEVENT
DTSTART;TZID=Europe/Paris:20260521T083000
DTEND;TZID=Europe/Paris:20260521T120000
DTSTAMP:20260425T122259
CREATED:20260106T174623Z
LAST-MODIFIED:20260106T174651Z
UID:1685-1779352200-1779364800@espace-enfants-grand-ried.eu
SUMMARY:Permanence d'écoute aux familles
DESCRIPTION:Besoin de parler\, de poser une question sur le comportement de votre enfant\, la vie de famille ou une situation qui vous préoccupe ?\nClaire Schmitt Moeglin psychologue vous accueille en toute confidentialité\, pour un temps d’échange et d’écoute.\nUn espace pour souffler\, comprendre\, trouver des repères. \nPour toutes les familles (membres ou non)\, les permanences d’écoute gratuites se font une fois par mois sur rendez-vous à 8h30 ou 11h \nLa psychologue est également présente au royaume des Galopins à la même date de 9h30 à 11h. \nPour prendre rendez-vous\, contactez notre secrétariat.
URL:https://espace-enfants-grand-ried.eu/event/permanence-dcoute-aux-familles-2105/
LOCATION:RAI\, 25 rue des artisans\, Sundhouse\, 67920
CATEGORIES:parentalité
ATTACH;FMTTYPE=image/png:https://espace-enfants-grand-ried.eu/wp-content/uploads/2026/01/Copie-de-Bientot-de-retour-1140-x-350-px-1.png
END:VEVENT
BEGIN:VEVENT
DTSTART;TZID=Europe/Paris:20260522T140000
DTEND;TZID=Europe/Paris:20260522T150000
DTSTAMP:20260425T122259
CREATED:20260407T144711Z
LAST-MODIFIED:20260407T144734Z
UID:3550-1779458400-1779462000@espace-enfants-grand-ried.eu
SUMMARY:Chant prénatal future maman
DESCRIPTION:Doux et apaisant\, le chant prénatal est une excellente méthode de préparation à l’accouchement. Il décontracte les futurs parents et rassure le nourrisson. (2 personnes max.) \nIntervenante : Chantal Schaeffer – Rebert \n\nCarte de membre obligatoire
URL:https://espace-enfants-grand-ried.eu/event/chant-prnatal-future-maman-2205/
LOCATION:Chantal Schaeffer- Rebert\, 8 rue des Vergers\, Hilsenheim\, France
CATEGORIES:Bout'chou · 0 à 3ans
ATTACH;FMTTYPE=image/jpeg:https://espace-enfants-grand-ried.eu/wp-content/uploads/2025/10/135587210_1761711547324070_572369067633342688_n-e1631116408677.jpg
END:VEVENT
BEGIN:VEVENT
DTSTART;TZID=Europe/Paris:20260523T090000
DTEND;TZID=Europe/Paris:20260523T110000
DTSTAMP:20260425T122259
CREATED:20260407T142614Z
LAST-MODIFIED:20260407T142646Z
UID:3540-1779526800-1779534000@espace-enfants-grand-ried.eu
SUMMARY:Poterie parents / enfants dès 3 ans
DESCRIPTION:Atelier Duo pour enfants accompagnés d’un adulte \nTaper la terre\, faire de la barbotine\, créer\, assembler\, voici le programme de l’atelier poterie ! \nIntervenante : Anne Moreau – Artiste potière \nCarte de membre obligatoire \n(14\,40€ villages Hors CC du Grand Ried de Marckolsheim)
URL:https://espace-enfants-grand-ried.eu/event/poterie-parents-enfants-ds-3-ans-2305/
LOCATION:création Mana\, 13 rue de Saasenheim\, SUNDHOUSE\, bas-rhin\, 67920\, France
CATEGORIES:En famille dès 3 ans
ATTACH;FMTTYPE=image/jpeg:https://espace-enfants-grand-ried.eu/wp-content/uploads/2026/01/20240601_101630.jpg
END:VEVENT
BEGIN:VEVENT
DTSTART;TZID=Europe/Paris:20260523T093000
DTEND;TZID=Europe/Paris:20260523T103000
DTSTAMP:20260425T122259
CREATED:20260407T144814Z
LAST-MODIFIED:20260407T144841Z
UID:3553-1779528600-1779532200@espace-enfants-grand-ried.eu
SUMMARY:Montessori 18 mois à 3 ans
DESCRIPTION:Virginie vous propose de découvrir Montessori avec son matériel dans son éducathèque (1 adulte / 1 enfant). \nIntervenante : Virginie Bertrand – https://desracinesetdesailes.wixsite.com/educatheque \n\n\nCarte de membre obligatoire
URL:https://espace-enfants-grand-ried.eu/event/montessori-18-mois-3-ans-2305/
LOCATION:Educathèque des racines et des ailes\, 9 Rue des Tulipes\,\, Muttersholtz\, 67600
CATEGORIES:Bout'chou · 0 à 3ans
ATTACH;FMTTYPE=image/jpeg:https://espace-enfants-grand-ried.eu/wp-content/uploads/2025/12/337829042_231403366078790_1280205057563853184_n-e1767439096718.jpg
END:VEVENT
BEGIN:VEVENT
DTSTART;TZID=Europe/Paris:20260523T140000
DTEND;TZID=Europe/Paris:20260523T160000
DTSTAMP:20260425T122259
CREATED:20260408T102953Z
LAST-MODIFIED:20260408T102953Z
UID:3547-1779544800-1779552000@espace-enfants-grand-ried.eu
SUMMARY:porcelaine froide parents/enfants dès 6 ans
DESCRIPTION:Atelier Duo pour enfants accompagnés d’un adulte \nCette pâte est réalisée à base de colle et de fécule de maïs\, sans besoin de cuisson\, séchant simplement à l’air libre. \nMalaxer\, façonner\, créer en fonction du thème une oeuvre qui vous ressemble \nIntervenante : Virginie Cordier \nCarte de membre obligatoire \n(14\,40€ villages Hors CC du Grand Ried de Marckolsheim)
URL:https://espace-enfants-grand-ried.eu/event/porcelaine-froide-parents-enfants-des-6-ans/
LOCATION:Salle associative\, 1 Rue du Dr Albert Schweitzer\,\, SUNDHOUSE\, 67920
CATEGORIES:En famille dès 3 ans
ATTACH;FMTTYPE=image/jpeg:https://espace-enfants-grand-ried.eu/wp-content/uploads/2026/04/1262.jpg
END:VEVENT
BEGIN:VEVENT
DTSTART;TZID=Europe/Paris:20260526T090000
DTEND;TZID=Europe/Paris:20260526T110000
DTSTAMP:20260425T122259
CREATED:20260407T144935Z
LAST-MODIFIED:20260407T145003Z
UID:3555-1779786000-1779793200@espace-enfants-grand-ried.eu
SUMMARY:Eveil corporel dès 3 mois
DESCRIPTION:Eveil corporel dès 3 mois\n« Babibal ». Eveil à la danse et au chant\, en duo parent/enfant\nUn son\, des instruments\, une voix\, un corps en mouvement. Un moment de poésie autour du développement sensori-moteur de l’enfant pour que tout s’accorde\, la voix\, le corps\, la rencontre. \nA 9h séance pour les nourrissons dès 3 mois jusqu’au 4 pattes \nA 9h55 séance pour les enfants crapahuteurs (à partir du 4 pattes) \nIntervenante : Nathalie Tuleff – Bébeillez-vous \nCarte de membre obligatoire
URL:https://espace-enfants-grand-ried.eu/event/eveil-corporel-ds-3-mois-2605/
LOCATION:Maison des associations\, route de Bindernheim\, Hilsenheim\, 67600\, France
CATEGORIES:Bout'chou · 0 à 3ans
ATTACH;FMTTYPE=image/jpeg:https://espace-enfants-grand-ried.eu/wp-content/uploads/2025/12/163189720_1818662441628980_5258320970321998862_n-e1629729006992.jpg
END:VEVENT
BEGIN:VEVENT
DTSTART;TZID=Europe/Paris:20260526T183000
DTEND;TZID=Europe/Paris:20260526T193000
DTSTAMP:20260425T122259
CREATED:20260326T104151Z
LAST-MODIFIED:20260326T104634Z
UID:3423-1779820200-1779823800@espace-enfants-grand-ried.eu
SUMMARY:Chansons jeune public
DESCRIPTION:Des chansons un peu folles qui se glissent dans l’oreille\, à fredonner avec vos enfants. Ce spectacle invite à changer et à apprivoiser la différence avec tendresse et fantaisie \nDurée 45 minutes \nDès 5 ans (accompagnateur adulte indispensable) \ninscription obligatoire sur Hello Asso : https://www.helloasso.com/associations/espace-enfants-grand-ried/evenements/chanson-jeune-public-sortie-en-famille?
URL:https://espace-enfants-grand-ried.eu/event/chansons-jeune-public-exemplaire/
LOCATION:Les Tanzmatten\, Espace culturel et festif\, quai de l'ill\, selestat\, 67600\, France
CATEGORIES:évènements
ATTACH;FMTTYPE=image/jpeg:https://espace-enfants-grand-ried.eu/wp-content/uploads/2026/03/csm_monstres-a-tue-tete_478ebf4c7b.jpg
END:VEVENT
BEGIN:VEVENT
DTSTART;TZID=Europe/Paris:20260530T090000
DTEND;TZID=Europe/Paris:20260530T110000
DTSTAMP:20260425T122259
CREATED:20260407T142735Z
LAST-MODIFIED:20260407T142759Z
UID:3543-1780131600-1780138800@espace-enfants-grand-ried.eu
SUMMARY:Poterie parents / enfants dès 3 ans
DESCRIPTION:Atelier Duo pour enfants accompagnés d’un adulte \nTaper la terre\, faire de la barbotine\, créer\, assembler\, voici le programme de l’atelier poterie ! \nIntervenante : Anne Moreau – Artiste potière \nCarte de membre obligatoire \n(14\,40€ villages Hors CC du Grand Ried de Marckolsheim)
URL:https://espace-enfants-grand-ried.eu/event/poterie-parents-enfants-ds-3-ans-3005/
LOCATION:création Mana\, 13 rue de Saasenheim\, SUNDHOUSE\, bas-rhin\, 67920\, France
CATEGORIES:En famille dès 3 ans
ATTACH;FMTTYPE=image/jpeg:https://espace-enfants-grand-ried.eu/wp-content/uploads/2026/01/20240601_101630.jpg
END:VEVENT
BEGIN:VEVENT
DTSTART;TZID=Europe/Paris:20260530T103000
DTEND;TZID=Europe/Paris:20260530T113000
DTSTAMP:20260425T122259
CREATED:20260407T145050Z
LAST-MODIFIED:20260407T145113Z
UID:3558-1780137000-1780140600@espace-enfants-grand-ried.eu
SUMMARY:Langue signée
DESCRIPTION:Parce que les gestes sont aussi important que les mots\, venez découvrir la langue des signes pour les bébés ! \nIntervenante : Bérénice Uhl \nCarte de membre obligatoire
URL:https://espace-enfants-grand-ried.eu/event/langue-signe-3005/
LOCATION:Espace Enfants du Grand Ried\, 25 rue des artisans\, SUNDHOUSE\, 67920\, France
CATEGORIES:Bout'chou · 0 à 3ans
ATTACH;FMTTYPE=image/jpeg:https://espace-enfants-grand-ried.eu/wp-content/uploads/2026/01/signe.jpg
END:VEVENT
END:VCALENDAR