BEGIN:VCALENDAR
VERSION:2.0
PRODID:-//espace enfant grand ried - ECPv6.15.20//NONSGML v1.0//EN
CALSCALE:GREGORIAN
METHOD:PUBLISH
X-ORIGINAL-URL:https://espace-enfants-grand-ried.eu
X-WR-CALDESC:Évènements pour espace enfant grand ried
REFRESH-INTERVAL;VALUE=DURATION:PT1H
X-Robots-Tag:noindex
X-PUBLISHED-TTL:PT1H
BEGIN:VTIMEZONE
TZID:Europe/Paris
BEGIN:DAYLIGHT
TZOFFSETFROM:+0100
TZOFFSETTO:+0200
TZNAME:CEST
DTSTART:20250330T010000
END:DAYLIGHT
BEGIN:STANDARD
TZOFFSETFROM:+0200
TZOFFSETTO:+0100
TZNAME:CET
DTSTART:20251026T010000
END:STANDARD
BEGIN:DAYLIGHT
TZOFFSETFROM:+0100
TZOFFSETTO:+0200
TZNAME:CEST
DTSTART:20260329T010000
END:DAYLIGHT
BEGIN:STANDARD
TZOFFSETFROM:+0200
TZOFFSETTO:+0100
TZNAME:CET
DTSTART:20261025T010000
END:STANDARD
BEGIN:DAYLIGHT
TZOFFSETFROM:+0100
TZOFFSETTO:+0200
TZNAME:CEST
DTSTART:20270328T010000
END:DAYLIGHT
BEGIN:STANDARD
TZOFFSETFROM:+0200
TZOFFSETTO:+0100
TZNAME:CET
DTSTART:20271031T010000
END:STANDARD
END:VTIMEZONE
BEGIN:VEVENT
DTSTART;TZID=Europe/Paris:20260602T183000
DTEND;TZID=Europe/Paris:20260602T193000
DTSTAMP:20260425T142109
CREATED:20260408T121939Z
LAST-MODIFIED:20260408T122017Z
UID:3562-1780425000-1780428600@espace-enfants-grand-ried.eu
SUMMARY:Hypnose
DESCRIPTION:Accompagnement à la naissance par l’hypnose\, accessible dès le début de la grossesse et jusqu’au 1 an de bébé. \nRéservé aux (futurs) mères\, pas de présence du bébé \nIntervenante : Roselyne Wagner – Hypnothérapeute \nCarte de membre obligatoire
URL:https://espace-enfants-grand-ried.eu/event/hypnose-0206/
LOCATION:Espace Enfants du Grand Ried\, 25 rue des artisans\, SUNDHOUSE\, 67920\, France
CATEGORIES:Bout'chou · 0 à 3ans
ATTACH;FMTTYPE=image/webp:https://espace-enfants-grand-ried.eu/wp-content/uploads/2026/02/baby-500x333-1.webp
END:VEVENT
BEGIN:VEVENT
DTSTART;TZID=Europe/Paris:20260606T090000
DTEND;TZID=Europe/Paris:20260606T110000
DTSTAMP:20260425T142109
CREATED:20260408T122106Z
LAST-MODIFIED:20260408T122134Z
UID:3565-1780736400-1780743600@espace-enfants-grand-ried.eu
SUMMARY:Poterie parents / enfants dès 3 ans
DESCRIPTION:Atelier Duo pour enfants accompagnés d’un adulte \nTaper la terre\, faire de la barbotine\, créer\, assembler\, voici le programme de l’atelier poterie ! \nIntervenante : Anne Moreau – Artiste potière \nCarte de membre obligatoire \n(14\,40€ villages Hors CC du Grand Ried de Marckolsheim)
URL:https://espace-enfants-grand-ried.eu/event/poterie-parents-enfants-ds-3-ans-0602/
LOCATION:création Mana\, 13 rue de Saasenheim\, SUNDHOUSE\, bas-rhin\, 67920\, France
CATEGORIES:En famille dès 3 ans
ATTACH;FMTTYPE=image/jpeg:https://espace-enfants-grand-ried.eu/wp-content/uploads/2026/01/20240601_101630.jpg
END:VEVENT
BEGIN:VEVENT
DTSTART;TZID=Europe/Paris:20260606T100000
DTEND;TZID=Europe/Paris:20260606T110000
DTSTAMP:20260425T142109
CREATED:20260410T130343Z
LAST-MODIFIED:20260414T115130Z
UID:3614-1780740000-1780743600@espace-enfants-grand-ried.eu
SUMMARY:création futur et jeune parent
DESCRIPTION:Créations d’accessoires pour enfants inspiré de la méthode Montessori \nThème du jour : Atelier collier de portage (dès 2 mois) ou enfant (A partir de 2 ans)\n\nVenez choisir un kit pour préparer votre collier à croquer\, manipuler\, agripper\, ce qui permettra l’autorégulation\, d’assouvir le besoin de mettre en bouche lorsque les dents poussent\, bougent et décalent les voisines autant chez les bébés et les plus grands.\nintervenante : Fanny Von Der Heiden – Atelier coloré de Fanny
URL:https://espace-enfants-grand-ried.eu/event/creation-futur-et-jeune-parent/
LOCATION:RAI\, 25 rue des artisans\, Sundhouse\, 67920
CATEGORIES:Bout'chou · 0 à 3ans
ATTACH;FMTTYPE=image/jpeg:https://espace-enfants-grand-ried.eu/wp-content/uploads/2026/04/20250527_144043.jpg
END:VEVENT
BEGIN:VEVENT
DTSTART;TZID=Europe/Paris:20260607T090000
DTEND;TZID=Europe/Paris:20260607T103000
DTSTAMP:20260425T142109
CREATED:20260408T122329Z
LAST-MODIFIED:20260408T122357Z
UID:3571-1780822800-1780828200@espace-enfants-grand-ried.eu
SUMMARY:Poney parents / enfants dès 4 ans
DESCRIPTION:Atelier DUO pour enfants à partir de 4 ans accompagnés d’un adulte. \nBrosser\, préparer son poney\, promenade et découverte des animaux de la ferme \nIntervenante : Caroline Denni – L’écurie d’Helsa \nCarte de membre obligatoire \n(9\,60€ villages hors CC du Ried de Marckolsheim)
URL:https://espace-enfants-grand-ried.eu/event/poney-parents-enfants-ds-4-ans-0706/
LOCATION:L’écurie d’Helsa\, rue de la promenade\, Hilsenheim\, 67600\, France
CATEGORIES:En famille dès 3 ans
ATTACH;FMTTYPE=image/jpeg:https://espace-enfants-grand-ried.eu/wp-content/uploads/2026/01/20240505_091611.jpg
END:VEVENT
BEGIN:VEVENT
DTSTART;TZID=Europe/Paris:20260607T104500
DTEND;TZID=Europe/Paris:20260607T113000
DTSTAMP:20260425T142109
CREATED:20260408T122458Z
LAST-MODIFIED:20260408T122534Z
UID:3574-1780829100-1780831800@espace-enfants-grand-ried.eu
SUMMARY:Baby poney 2 à 3 ans
DESCRIPTION:Nous proposerons aux enfants de 2 à 3 ans accompagnés d’un adulte de venir découvrir les poneys. Au programme : brossage\, parcours et modules \nIntervenante : Caroline Denni – L’écurie d’Helsa \nCarte de membre obligatoire
URL:https://espace-enfants-grand-ried.eu/event/baby-poney-2-3-ans-0706/
LOCATION:L’écurie d’Helsa\, rue de la promenade\, Hilsenheim\, 67600\, France
CATEGORIES:Bout'chou · 0 à 3ans
ATTACH;FMTTYPE=image/jpeg:https://espace-enfants-grand-ried.eu/wp-content/uploads/2026/01/163565221_1818657411629483_5979461624521988349_n-e1631010947225.jpg
END:VEVENT
BEGIN:VEVENT
DTSTART;TZID=Europe/Paris:20260612T140000
DTEND;TZID=Europe/Paris:20260612T150000
DTSTAMP:20260425T142109
CREATED:20260408T122804Z
LAST-MODIFIED:20260408T122858Z
UID:3577-1781272800-1781276400@espace-enfants-grand-ried.eu
SUMMARY:Chant prénatal future maman
DESCRIPTION:Doux et apaisant\, le chant prénatal est une excellente méthode de préparation à l’accouchement. Il décontracte les futurs parents et rassure le nourrisson. (2 personnes max.) \nIntervenante : Chantal Schaeffer – Rebert \n\nCarte de membre obligatoire
URL:https://espace-enfants-grand-ried.eu/event/chant-prnatal-future-maman-1406/
LOCATION:Chantal Schaeffer- Rebert\, 8 rue des Vergers\, Hilsenheim\, France
CATEGORIES:Bout'chou · 0 à 3ans
ATTACH;FMTTYPE=image/jpeg:https://espace-enfants-grand-ried.eu/wp-content/uploads/2025/10/135587210_1761711547324070_572369067633342688_n-e1631116408677.jpg
END:VEVENT
BEGIN:VEVENT
DTSTART;TZID=Europe/Paris:20260612T200000
DTEND;TZID=Europe/Paris:20260612T230000
DTSTAMP:20260425T142109
CREATED:20260316T115956Z
LAST-MODIFIED:20260324T072607Z
UID:2886-1781294400-1781305200@espace-enfants-grand-ried.eu
SUMMARY:Soirée Jeux - 12 Juin
DESCRIPTION:Rejoignez nous pour une soirée jeux le vendredi 12 juin 2026 à partir de 20h ! Venez découvrir une ambiance conviviale autour de plateaux\, cartes et dés.La participation est gratuite pour une première découverte.À partir de la deuxième fois\, une carte de membre EEGR sera nécessaire
URL:https://espace-enfants-grand-ried.eu/event/soire-jeux-12-juin/
LOCATION:club house Hessenheim\, rue de Baldenheim\, Hessenheim\, 67390\, France
CATEGORIES:ludoried
ATTACH;FMTTYPE=image/jpeg:https://espace-enfants-grand-ried.eu/wp-content/uploads/2025/10/gros-jeux2-1.jpg
END:VEVENT
BEGIN:VEVENT
DTSTART;TZID=Europe/Paris:20260613T090000
DTEND;TZID=Europe/Paris:20260613T110000
DTSTAMP:20260425T142109
CREATED:20260408T122225Z
LAST-MODIFIED:20260408T122252Z
UID:3568-1781341200-1781348400@espace-enfants-grand-ried.eu
SUMMARY:Poterie parents / enfants dès 3 ans
DESCRIPTION:Atelier Duo pour enfants accompagnés d’un adulte \nTaper la terre\, faire de la barbotine\, créer\, assembler\, voici le programme de l’atelier poterie ! \nIntervenante : Anne Moreau – Artiste potière \nCarte de membre obligatoire \n(14\,40€ villages Hors CC du Grand Ried de Marckolsheim)
URL:https://espace-enfants-grand-ried.eu/event/poterie-parents-enfants-ds-3-ans-1306/
LOCATION:création Mana\, 13 rue de Saasenheim\, SUNDHOUSE\, bas-rhin\, 67920\, France
CATEGORIES:En famille dès 3 ans
ATTACH;FMTTYPE=image/jpeg:https://espace-enfants-grand-ried.eu/wp-content/uploads/2026/01/20240601_101630.jpg
END:VEVENT
BEGIN:VEVENT
DTSTART;TZID=Europe/Paris:20260613T103000
DTEND;TZID=Europe/Paris:20260613T113000
DTSTAMP:20260425T142109
CREATED:20260408T123155Z
LAST-MODIFIED:20260408T123247Z
UID:3580-1781346600-1781350200@espace-enfants-grand-ried.eu
SUMMARY:Langue signée
DESCRIPTION:Parce que les gestes sont aussi important que les mots\, venez découvrir la langue des signes pour les bébés ! \nIntervenante : Bérénice Uhl \nCarte de membre obligatoire
URL:https://espace-enfants-grand-ried.eu/event/langue-signe-1306/
LOCATION:Espace Enfants du Grand Ried\, 25 rue des artisans\, SUNDHOUSE\, 67920\, France
CATEGORIES:Bout'chou · 0 à 3ans
ATTACH;FMTTYPE=image/jpeg:https://espace-enfants-grand-ried.eu/wp-content/uploads/2026/01/signe.jpg
END:VEVENT
BEGIN:VEVENT
DTSTART;TZID=Europe/Paris:20260613T140000
DTEND;TZID=Europe/Paris:20260613T160000
DTSTAMP:20260425T142109
CREATED:20260409T091724Z
LAST-MODIFIED:20260409T092047Z
UID:3593-1781359200-1781366400@espace-enfants-grand-ried.eu
SUMMARY:4 mains parents / enfants dès 6 ans
DESCRIPTION:Atelier Duo pour enfants accompagnés d’un adulte \nChacun de nous a un potentiel créatif et joueur ! Pas de doute\, avec quelques pinceaux et couleurs laisser libre court à votre créativité. \nIntervenante : Laetitia Weber – Le petit atelier \nCarte de membre obligatoire \n(18€ villages Hors CC du Grand Ried de Marckolsheim) \n 
URL:https://espace-enfants-grand-ried.eu/event/4-mais-parents-enfants-des-6-ans/
LOCATION:salle Camille Heitz\, 24 rue principale\, saasenheim\, 67390\, France
CATEGORIES:En famille dès 3 ans
ATTACH;FMTTYPE=image/jpeg:https://espace-enfants-grand-ried.eu/wp-content/uploads/2026/04/20180519_152749.jpg
END:VEVENT
BEGIN:VEVENT
DTSTART;TZID=Europe/Paris:20260615T090000
DTEND;TZID=Europe/Paris:20260615T100000
DTSTAMP:20260425T142109
CREATED:20260408T123339Z
LAST-MODIFIED:20260408T123943Z
UID:3583-1781514000-1781517600@espace-enfants-grand-ried.eu
SUMMARY:Sophrologie future et jeune maman
DESCRIPTION:La sophrologie pour vivre une grossesse sereine et gérer la fatigue\, les angoisses pendant et après la naissance de votre bébé. A vivre aussi en couple. \nCes ateliers vous permettront\, de mieux accepter tous les bouleversements physiques et émotionnels. Vous apprendrez des exercices simples et efficaces que vous pourrez reproduire chez vous. Ainsi\, vous deviendrez actrice de votre grossesse et de votre accouchement. \nIntervenante : Rachel Berger – Sophrologue \nCarte de membre obligatoire
URL:https://espace-enfants-grand-ried.eu/event/sophrologie-future-et-jeune-maman-1506/
LOCATION:Rachel Berger\, 63 rue de Hilsenheim\, Wittisheim\, 67820
CATEGORIES:Bout'chou · 0 à 3ans
ATTACH;FMTTYPE=image/jpeg:https://espace-enfants-grand-ried.eu/wp-content/uploads/2026/01/pregnant-1088240_1280-e1604391645876.jpg
END:VEVENT
BEGIN:VEVENT
DTSTART;TZID=Europe/Paris:20260618T083000
DTEND;TZID=Europe/Paris:20260618T120000
DTSTAMP:20260425T142109
CREATED:20260106T174718Z
LAST-MODIFIED:20260106T174744Z
UID:1688-1781771400-1781784000@espace-enfants-grand-ried.eu
SUMMARY:Permanence d'écoute aux familles
DESCRIPTION:Besoin de parler\, de poser une question sur le comportement de votre enfant\, la vie de famille ou une situation qui vous préoccupe ?\nClaire Schmitt Moeglin psychologue vous accueille en toute confidentialité\, pour un temps d’échange et d’écoute.\nUn espace pour souffler\, comprendre\, trouver des repères. \nPour toutes les familles (membres ou non)\, les permanences d’écoute gratuites se font une fois par mois sur rendez-vous à 8h30 ou 11h \nLa psychologue est également présente au royaume des Galopins à la même date de 9h30 à 11h. \nPour prendre rendez-vous\, contactez notre secrétariat.
URL:https://espace-enfants-grand-ried.eu/event/permanence-dcoute-aux-familles-1806/
LOCATION:RAI\, 25 rue des artisans\, Sundhouse\, 67920
CATEGORIES:parentalité
ATTACH;FMTTYPE=image/png:https://espace-enfants-grand-ried.eu/wp-content/uploads/2026/01/Copie-de-Bientot-de-retour-1140-x-350-px-1.png
END:VEVENT
BEGIN:VEVENT
DTSTART;TZID=Europe/Paris:20260623T090000
DTEND;TZID=Europe/Paris:20260623T110000
DTSTAMP:20260425T142109
CREATED:20260408T124225Z
LAST-MODIFIED:20260408T124250Z
UID:3586-1782205200-1782212400@espace-enfants-grand-ried.eu
SUMMARY:Eveil corporel dès 3 mois
DESCRIPTION:Eveil corporel dès 3 mois\n« Babibal ». Eveil à la danse et au chant\, en duo parent/enfant\nUn son\, des instruments\, une voix\, un corps en mouvement. Un moment de poésie autour du développement sensori-moteur de l’enfant pour que tout s’accorde\, la voix\, le corps\, la rencontre. \nA 9h séance pour les nourrissons dès 3 mois jusqu’au 4 pattes \nA 9h55 séance pour les enfants crapahuteurs (à partir du 4 pattes) \nIntervenante : Nathalie Tuleff – Bébeillez-vous \nCarte de membre obligatoire
URL:https://espace-enfants-grand-ried.eu/event/eveil-corporel-ds-3-mois-2306/
LOCATION:Maison des associations\, route de Bindernheim\, Hilsenheim\, 67600\, France
CATEGORIES:Bout'chou · 0 à 3ans
ATTACH;FMTTYPE=image/jpeg:https://espace-enfants-grand-ried.eu/wp-content/uploads/2025/12/163189720_1818662441628980_5258320970321998862_n-e1629729006992.jpg
END:VEVENT
BEGIN:VEVENT
DTSTART;TZID=Europe/Paris:20260627T093000
DTEND;TZID=Europe/Paris:20260627T103000
DTSTAMP:20260425T142109
CREATED:20260408T124339Z
LAST-MODIFIED:20260408T124626Z
UID:3589-1782552600-1782556200@espace-enfants-grand-ried.eu
SUMMARY:Montessori 18 mois à 3 ans
DESCRIPTION:Virginie vous propose de découvrir Montessori avec son matériel dans son éducathèque (1 adulte / 1 enfant). \nIntervenante : Virginie Bertrand – https://desracinesetdesailes.wixsite.com/educatheque \n\n\nCarte de membre obligatoire
URL:https://espace-enfants-grand-ried.eu/event/montessori-18-mois-3-ans-2706/
LOCATION:Educathèque des racines et des ailes\, 9 Rue des Tulipes\,\, Muttersholtz\, 67600
CATEGORIES:Bout'chou · 0 à 3ans
ATTACH;FMTTYPE=image/jpeg:https://espace-enfants-grand-ried.eu/wp-content/uploads/2025/12/337829042_231403366078790_1280205057563853184_n-e1767439096718.jpg
END:VEVENT
END:VCALENDAR